BEGIN:VCALENDAR
VERSION:2.0
PRODID:-//Earlybirds Club - ECPv6.15.18//NONSGML v1.0//EN
CALSCALE:GREGORIAN
METHOD:PUBLISH
X-ORIGINAL-URL:https://early-birds.club
X-WR-CALDESC:Events for Earlybirds Club
REFRESH-INTERVAL;VALUE=DURATION:PT1H
X-Robots-Tag:noindex
X-PUBLISHED-TTL:PT1H
BEGIN:VTIMEZONE
TZID:America/New_York
BEGIN:DAYLIGHT
TZOFFSETFROM:-0500
TZOFFSETTO:-0400
TZNAME:EDT
DTSTART:20250309T070000
END:DAYLIGHT
BEGIN:STANDARD
TZOFFSETFROM:-0400
TZOFFSETTO:-0500
TZNAME:EST
DTSTART:20251102T060000
END:STANDARD
BEGIN:DAYLIGHT
TZOFFSETFROM:-0500
TZOFFSETTO:-0400
TZNAME:EDT
DTSTART:20260308T070000
END:DAYLIGHT
BEGIN:STANDARD
TZOFFSETFROM:-0400
TZOFFSETTO:-0500
TZNAME:EST
DTSTART:20261101T060000
END:STANDARD
BEGIN:DAYLIGHT
TZOFFSETFROM:-0500
TZOFFSETTO:-0400
TZNAME:EDT
DTSTART:20270314T070000
END:DAYLIGHT
BEGIN:STANDARD
TZOFFSETFROM:-0400
TZOFFSETTO:-0500
TZNAME:EST
DTSTART:20271107T060000
END:STANDARD
END:VTIMEZONE
BEGIN:VTIMEZONE
TZID:America/Chicago
BEGIN:DAYLIGHT
TZOFFSETFROM:-0600
TZOFFSETTO:-0500
TZNAME:CDT
DTSTART:20250309T080000
END:DAYLIGHT
BEGIN:STANDARD
TZOFFSETFROM:-0500
TZOFFSETTO:-0600
TZNAME:CST
DTSTART:20251102T070000
END:STANDARD
BEGIN:DAYLIGHT
TZOFFSETFROM:-0600
TZOFFSETTO:-0500
TZNAME:CDT
DTSTART:20260308T080000
END:DAYLIGHT
BEGIN:STANDARD
TZOFFSETFROM:-0500
TZOFFSETTO:-0600
TZNAME:CST
DTSTART:20261101T070000
END:STANDARD
BEGIN:DAYLIGHT
TZOFFSETFROM:-0600
TZOFFSETTO:-0500
TZNAME:CDT
DTSTART:20270314T080000
END:DAYLIGHT
BEGIN:STANDARD
TZOFFSETFROM:-0500
TZOFFSETTO:-0600
TZNAME:CST
DTSTART:20271107T070000
END:STANDARD
END:VTIMEZONE
BEGIN:VTIMEZONE
TZID:America/Los_Angeles
BEGIN:DAYLIGHT
TZOFFSETFROM:-0800
TZOFFSETTO:-0700
TZNAME:PDT
DTSTART:20250309T100000
END:DAYLIGHT
BEGIN:STANDARD
TZOFFSETFROM:-0700
TZOFFSETTO:-0800
TZNAME:PST
DTSTART:20251102T090000
END:STANDARD
BEGIN:DAYLIGHT
TZOFFSETFROM:-0800
TZOFFSETTO:-0700
TZNAME:PDT
DTSTART:20260308T100000
END:DAYLIGHT
BEGIN:STANDARD
TZOFFSETFROM:-0700
TZOFFSETTO:-0800
TZNAME:PST
DTSTART:20261101T090000
END:STANDARD
BEGIN:DAYLIGHT
TZOFFSETFROM:-0800
TZOFFSETTO:-0700
TZNAME:PDT
DTSTART:20270314T100000
END:DAYLIGHT
BEGIN:STANDARD
TZOFFSETFROM:-0700
TZOFFSETTO:-0800
TZNAME:PST
DTSTART:20271107T090000
END:STANDARD
END:VTIMEZONE
BEGIN:VTIMEZONE
TZID:America/Phoenix
BEGIN:STANDARD
TZOFFSETFROM:-0700
TZOFFSETTO:-0700
TZNAME:MST
DTSTART:20250101T000000
END:STANDARD
END:VTIMEZONE
BEGIN:VEVENT
DTSTART;TZID=America/New_York:20260424T180000
DTEND;TZID=America/New_York:20260424T220000
DTSTAMP:20260423T040107
CREATED:20251116T233533Z
LAST-MODIFIED:20260219T151740Z
UID:6247-1777053600-1777068000@early-birds.club
SUMMARY:Earlybirds Club - New Jersey
DESCRIPTION:
URL:https://early-birds.club/event/earlybirds-club-new-jersey/
LOCATION:Asbury Lanes\, 209 4th Ave\, Asbury Park\, NJ\, 07712\, United States
CATEGORIES:New Jersey
ATTACH;FMTTYPE=image/png:https://early-birds.club/wp-content/uploads/2025/11/Copy-of-Asbury-Park_04_24_2026_-768-x-768.png
ORGANIZER;CN="Earlybirds Club":MAILTO:info@early-birds.club
END:VEVENT
BEGIN:VEVENT
DTSTART;TZID=America/New_York:20260424T180000
DTEND;TZID=America/New_York:20260424T220000
DTSTAMP:20260423T040107
CREATED:20251120T204017Z
LAST-MODIFIED:20260219T151625Z
UID:6294-1777053600-1777068000@early-birds.club
SUMMARY:Earlybirds Club - Long Island
DESCRIPTION:
URL:https://early-birds.club/event/earlybirds-club-long-island-2/
LOCATION:Mulcahy’s\, 3232 Railroad Ave\, Wantagh\, NY\, 11793\, United States
CATEGORIES:Long Island, NY,New York
ATTACH;FMTTYPE=image/png:https://early-birds.club/wp-content/uploads/2025/11/Long-Island_04_24_2026_-768-x-768-1.png
ORGANIZER;CN="Earlybirds Club":MAILTO:info@early-birds.club
END:VEVENT
BEGIN:VEVENT
DTSTART;TZID=America/Chicago:20260424T180000
DTEND;TZID=America/Chicago:20260424T220000
DTSTAMP:20260423T040107
CREATED:20251206T211653Z
LAST-MODIFIED:20251214T083339Z
UID:6391-1777053600-1777068000@early-birds.club
SUMMARY:Earlybirds Club - Minneapolis
DESCRIPTION:
URL:https://early-birds.club/event/earlybirds-club-minneapolis-2/
LOCATION:Fine Line\, 318 N 1st Ave\, Minneapolis\, MN\, 55401\, United States
CATEGORIES:Minneapolis
ATTACH;FMTTYPE=image/png:https://early-birds.club/wp-content/uploads/2025/12/Minneapolis_04_24_2025.png
ORGANIZER;CN="Earlybirds Club":MAILTO:info@early-birds.club
END:VEVENT
BEGIN:VEVENT
DTSTART;TZID=America/Los_Angeles:20260425T180000
DTEND;TZID=America/Los_Angeles:20260425T220000
DTSTAMP:20260423T040107
CREATED:20251218T005836Z
LAST-MODIFIED:20260228T203920Z
UID:6425-1777140000-1777154400@early-birds.club
SUMMARY:Earlybirds Club - Sacramento
DESCRIPTION:
URL:https://early-birds.club/event/earlybirds-club-sacramento/
LOCATION:Harlow’s\, 2708 J St\, Sacramento\, CA\, 95816\, United States
CATEGORIES:Sacramento
ATTACH;FMTTYPE=image/png:https://early-birds.club/wp-content/uploads/2025/12/Copy-of-Sacramento_04_25_2026_-768-x-768.png
ORGANIZER;CN="Earlybirds Club":MAILTO:info@early-birds.club
END:VEVENT
BEGIN:VEVENT
DTSTART;TZID=America/Chicago:20260425T180000
DTEND;TZID=America/Chicago:20260425T220000
DTSTAMP:20260423T040107
CREATED:20251218T013543Z
LAST-MODIFIED:20260422T153805Z
UID:6452-1777140000-1777154400@early-birds.club
SUMMARY:Earlybirds Club - St. Louis
DESCRIPTION:
URL:https://early-birds.club/event/earlybirds-club-st-louis/
LOCATION:Delmar Hall\, 6133 Delmar Blvd\, St. Louis\, MO\, 63112\, United States
CATEGORIES:St Louis
ATTACH;FMTTYPE=image/png:https://early-birds.club/wp-content/uploads/2025/12/St-Louis_04.25.2026_-768-x-768-3.png
ORGANIZER;CN="Earlybirds Club":MAILTO:info@early-birds.club
END:VEVENT
BEGIN:VEVENT
DTSTART;TZID=America/Chicago:20260425T180000
DTEND;TZID=America/Chicago:20260425T220000
DTSTAMP:20260423T040107
CREATED:20260116T043726Z
LAST-MODIFIED:20260305T160440Z
UID:6533-1777140000-1777154400@early-birds.club
SUMMARY:Earlybirds Club - Chicago Latin Night
DESCRIPTION:
URL:https://early-birds.club/event/earlybirds-club-chicago-11/
LOCATION:Beat Kitchen\, 2100 W Belmont Ave\, Chicago\, IL\, 60618\, United States
CATEGORIES:Chicago
ATTACH;FMTTYPE=image/jpeg:https://early-birds.club/wp-content/uploads/2026/01/Chicago-Latin_04_25_2026_-768-x-768-2.jpg
ORGANIZER;CN="Earlybirds Club":MAILTO:info@early-birds.club
END:VEVENT
BEGIN:VEVENT
DTSTART;TZID=America/Chicago:20260425T180000
DTEND;TZID=America/Chicago:20260425T220000
DTSTAMP:20260423T040107
CREATED:20260202T011106Z
LAST-MODIFIED:20260226T164141Z
UID:6584-1777140000-1777154400@early-birds.club
SUMMARY:Earlybirds Club - Dallas
DESCRIPTION:
URL:https://early-birds.club/event/earlybirds-club-dallas-2/
LOCATION:The Studio at the Bomb Factory\, 2727 Canton St\, Dallas\, TX\, 75226\, United States
CATEGORIES:Dallas
ATTACH;FMTTYPE=image/png:https://early-birds.club/wp-content/uploads/2026/02/Copy-of-DALLAS_04.25.2026_-768-x-768.png
ORGANIZER;CN="Earlybirds Club":MAILTO:info@early-birds.club
END:VEVENT
BEGIN:VEVENT
DTSTART;TZID=America/Los_Angeles:20260501T173000
DTEND;TZID=America/Los_Angeles:20260501T213000
DTSTAMP:20260423T040107
CREATED:20251028T175424Z
LAST-MODIFIED:20260421T183328Z
UID:6011-1777656600-1777671000@early-birds.club
SUMMARY:Earlybirds Club - Seattle 2000s Night
DESCRIPTION:
URL:https://early-birds.club/event/earlybirds-club-seattle-4/
LOCATION:The Crocodile\, 2505 1st Ave\, Seattle\, WA\, 98121\, United States
CATEGORIES:Seattle
ATTACH;FMTTYPE=image/jpeg:https://early-birds.club/wp-content/uploads/2025/10/Seattle_2000s_05_01_2026_768x768px-1.jpg
ORGANIZER;CN="Earlybirds Club":MAILTO:info@early-birds.club
END:VEVENT
BEGIN:VEVENT
DTSTART;TZID=America/Los_Angeles:20260501T180000
DTEND;TZID=America/Los_Angeles:20260501T220000
DTSTAMP:20260423T040107
CREATED:20260304T192810Z
LAST-MODIFIED:20260326T170730Z
UID:6765-1777658400-1777672800@early-birds.club
SUMMARY:Earlybirds Club - San Francisco Decades Party
DESCRIPTION:
URL:https://early-birds.club/event/earlybirds-club-san-francisco-7/
LOCATION:The Independent\, 628 Divisadero St\, San Francisco\, CA\, 94117\, United States
CATEGORIES:San Francisco
ATTACH;FMTTYPE=image/png:https://early-birds.club/wp-content/uploads/2026/03/SF_-Decades_05.01.2026_-768-x-768-1.png
ORGANIZER;CN="Earlybirds Club":MAILTO:info@early-birds.club
END:VEVENT
BEGIN:VEVENT
DTSTART;TZID=America/Los_Angeles:20260502T173000
DTEND;TZID=America/Los_Angeles:20260502T213000
DTSTAMP:20260423T040107
CREATED:20260302T154813Z
LAST-MODIFIED:20260421T183208Z
UID:6744-1777743000-1777757400@early-birds.club
SUMMARY:Earlybirds Club - Seattle
DESCRIPTION:
URL:https://early-birds.club/event/earlybirds-club-seattle-7/
LOCATION:The Crocodile\, 2505 1st Ave\, Seattle\, WA\, 98121\, United States
CATEGORIES:Seattle
ATTACH;FMTTYPE=image/png:https://early-birds.club/wp-content/uploads/2026/03/Seattle_05_02_2026_768x768px-1-1.png
ORGANIZER;CN="Earlybirds Club":MAILTO:info@early-birds.club
END:VEVENT
BEGIN:VEVENT
DTSTART;TZID=America/Chicago:20260502T180000
DTEND;TZID=America/Chicago:20260502T220000
DTSTAMP:20260423T040107
CREATED:20260302T143919Z
LAST-MODIFIED:20260305T160531Z
UID:6736-1777744800-1777759200@early-birds.club
SUMMARY:Earlybirds Club - Kansas City
DESCRIPTION:
URL:https://early-birds.club/event/earlybirds-club-kansas-city-2/
LOCATION:Warehouse on Broadway\, 3951 Broadway Blvd\, Kansas City\, MO\, 64111\, United States
CATEGORIES:Kansas City
ATTACH;FMTTYPE=image/png:https://early-birds.club/wp-content/uploads/2026/03/Kansas-CIty_05.02.2026_-768-x-768.png
ORGANIZER;CN="Earlybirds Club":MAILTO:info@early-birds.club
END:VEVENT
BEGIN:VEVENT
DTSTART;TZID=America/New_York:20260508T180000
DTEND;TZID=America/New_York:20260508T220000
DTSTAMP:20260423T040107
CREATED:20251028T173628Z
LAST-MODIFIED:20260305T151408Z
UID:5987-1778263200-1778277600@early-birds.club
SUMMARY:Earlybirds Club - Boston
DESCRIPTION:
URL:https://early-birds.club/event/earlybirds-club-boston-4/
LOCATION:The Sinclair\, 52 Church St\, Cambridge\, MA\, 02138\, United States
CATEGORIES:Boston
ATTACH;FMTTYPE=image/png:https://early-birds.club/wp-content/uploads/2025/10/Boston_05_08_2026_768x768px.png
ORGANIZER;CN="Earlybirds Club":MAILTO:info@early-birds.club
END:VEVENT
BEGIN:VEVENT
DTSTART;TZID=America/New_York:20260508T180000
DTEND;TZID=America/New_York:20260508T220000
DTSTAMP:20260423T040107
CREATED:20251218T013949Z
LAST-MODIFIED:20260305T151457Z
UID:6455-1778263200-1778277600@early-birds.club
SUMMARY:Earlybirds Club - New Haven\, CT
DESCRIPTION:
URL:https://early-birds.club/event/earlybirds-club-new-haven-ct/
LOCATION:Toad’s Place\, 300 York St\, New Haven\, CT\, 06511\, United States
CATEGORIES:Connecticut
ATTACH;FMTTYPE=image/png:https://early-birds.club/wp-content/uploads/2025/12/New-Haven_05_08_2026_768x768px-2-1.png
ORGANIZER;CN="Earlybirds Club":MAILTO:info@early-birds.club
END:VEVENT
BEGIN:VEVENT
DTSTART;TZID=America/Los_Angeles:20260508T180000
DTEND;TZID=America/Los_Angeles:20260508T220000
DTSTAMP:20260423T040107
CREATED:20260216T204715Z
LAST-MODIFIED:20260417T170740Z
UID:6665-1778263200-1778277600@early-birds.club
SUMMARY:Earlybirds Club - LA
DESCRIPTION:
URL:https://early-birds.club/event/earlybirds-club-la-7/
LOCATION:The Bellwether\, 333 S Boylston St\, Los Angeles\, CA\, 90017\, United States
CATEGORIES:LA
ATTACH;FMTTYPE=image/png:https://early-birds.club/wp-content/uploads/2025/12/Copy-of-LA_05.03.2026_-768-x-768-1.png
ORGANIZER;CN="Earlybirds Club":MAILTO:info@early-birds.club
END:VEVENT
BEGIN:VEVENT
DTSTART;TZID=America/New_York:20260509T180000
DTEND;TZID=America/New_York:20260509T220000
DTSTAMP:20260423T040107
CREATED:20251117T031325Z
LAST-MODIFIED:20260326T145524Z
UID:6253-1778349600-1778364000@early-birds.club
SUMMARY:Earlybirds Club - Pawtucket Girl Power Scream-Along
DESCRIPTION:
URL:https://early-birds.club/event/earlybirds-club-providence-3/
LOCATION:The Met\, 1005 Main St\, Pawtucket\, RI\, 02860\, United States
CATEGORIES:Providence
ATTACH;FMTTYPE=image/png:https://early-birds.club/wp-content/uploads/2025/11/Copy-of-Pawtucket_5_9_2026_-768-x-768.png
ORGANIZER;CN="Earlybirds Club":MAILTO:info@early-birds.club
END:VEVENT
BEGIN:VEVENT
DTSTART;TZID=America/Los_Angeles:20260509T180000
DTEND;TZID=America/Los_Angeles:20260509T220000
DTSTAMP:20260423T040107
CREATED:20251218T012043Z
LAST-MODIFIED:20260315T140330Z
UID:6442-1778349600-1778364000@early-birds.club
SUMMARY:Earlybirds Club - Portland Hip-Hop & R&B Night
DESCRIPTION:
URL:https://early-birds.club/event/earlybirds-club-portland-3/
LOCATION:Wonder Ballroom\, 128 NE Russell St\, Portland\, OR\, 97212\, United States
CATEGORIES:Portland
ATTACH;FMTTYPE=image/png:https://early-birds.club/wp-content/uploads/2025/12/Portland_05_09_2026_768x768px-1.png
ORGANIZER;CN="Earlybirds Club":MAILTO:info@early-birds.club
END:VEVENT
BEGIN:VEVENT
DTSTART;TZID=America/Chicago:20260516T180000
DTEND;TZID=America/Chicago:20260516T220000
DTSTAMP:20260423T040107
CREATED:20251028T193154Z
LAST-MODIFIED:20260312T151150Z
UID:6017-1778954400-1778968800@early-birds.club
SUMMARY:Earlybirds Club - Chicago 90s Prom
DESCRIPTION:
URL:https://early-birds.club/event/earlybirds-club-chicago-5/
LOCATION:Park West\, 322 W Armitage Ave\, Chicago\, IL\, 60614\, United States
CATEGORIES:Chicago
ATTACH;FMTTYPE=image/png:https://early-birds.club/wp-content/uploads/2025/10/CHICAGO-PROM_05_16_2026_-768-x-768-1.png
ORGANIZER;CN="Earlybirds Club":MAILTO:info@early-birds.club
END:VEVENT
BEGIN:VEVENT
DTSTART;TZID=America/New_York:20260516T180000
DTEND;TZID=America/New_York:20260516T220000
DTSTAMP:20260423T040107
CREATED:20260210T140507Z
LAST-MODIFIED:20260325T190647Z
UID:6623-1778954400-1778968800@early-birds.club
SUMMARY:Earlybirds Club - New Jersey 90s Night
DESCRIPTION:
URL:https://early-birds.club/event/earlybirds-club-new-jersey-2/
LOCATION:Starland Ballroom\, 570 Jernee Mill Rd\, Sayreville\, NJ\, 08872\, United States
CATEGORIES:New Jersey
ATTACH;FMTTYPE=image/png:https://early-birds.club/wp-content/uploads/2026/02/5.png
ORGANIZER;CN="Earlybirds Club":MAILTO:info@early-birds.club
END:VEVENT
BEGIN:VEVENT
DTSTART;TZID=America/Phoenix:20260516T180000
DTEND;TZID=America/Phoenix:20260516T220000
DTSTAMP:20260423T040107
CREATED:20260212T001248Z
LAST-MODIFIED:20260305T171220Z
UID:6631-1778954400-1778968800@early-birds.club
SUMMARY:Earlybirds Club - Phoenix 90s Prom
DESCRIPTION:
URL:https://early-birds.club/event/earlybirds-club-phoenix-3/
LOCATION:Marquee Theatre\, 730 N Mill Ave\, Tempe\, AZ\, 85288\, United States
CATEGORIES:Phoenix
ATTACH;FMTTYPE=image/png:https://early-birds.club/wp-content/uploads/2026/02/Phoenix-PROM_05_16_2026_-768-x-768-1.png
ORGANIZER;CN="Earlybirds Club":MAILTO:info@early-birds.club
END:VEVENT
BEGIN:VEVENT
DTSTART;TZID=America/Chicago:20260529T180000
DTEND;TZID=America/Chicago:20260529T220000
DTSTAMP:20260423T040107
CREATED:20260116T043306Z
LAST-MODIFIED:20260326T161644Z
UID:6529-1780077600-1780092000@early-birds.club
SUMMARY:Earlybirds Club - Chicago - The Get Down
DESCRIPTION:
URL:https://early-birds.club/event/earlybirds-club-chicago-9/
LOCATION:Beat Kitchen\, 2100 W Belmont Ave\, Chicago\, IL\, 60618\, United States
CATEGORIES:Chicago
ATTACH;FMTTYPE=image/png:https://early-birds.club/wp-content/uploads/2026/01/Chicago_disco_05_29_2026_768x768px-4.png
ORGANIZER;CN="Earlybirds Club":MAILTO:info@early-birds.club
END:VEVENT
BEGIN:VEVENT
DTSTART;TZID=America/New_York:20260530T180000
DTEND;TZID=America/New_York:20260530T220000
DTSTAMP:20260423T040107
CREATED:20251028T173845Z
LAST-MODIFIED:20260326T145219Z
UID:5989-1780164000-1780178400@early-birds.club
SUMMARY:Earlybirds Club - DC Hip-Hop & R&B Night
DESCRIPTION:
URL:https://early-birds.club/event/earlybirds-club-dc-5/
LOCATION:The Fillmore\, 8656 Colesville Rd\, Silver Spring\, MD\, 20910\, United States
CATEGORIES:DC
ATTACH;FMTTYPE=image/png:https://early-birds.club/wp-content/uploads/2025/10/DC_05_30_2026_-768-x-768.png
ORGANIZER;CN="Earlybirds Club":MAILTO:info@early-birds.club
END:VEVENT
BEGIN:VEVENT
DTSTART;TZID=America/New_York:20260530T180000
DTEND;TZID=America/New_York:20260530T220000
DTSTAMP:20260423T040107
CREATED:20251028T174031Z
LAST-MODIFIED:20260312T151352Z
UID:5991-1780164000-1780178400@early-birds.club
SUMMARY:Earlybirds Club - New York City 90s Prom
DESCRIPTION:
URL:https://early-birds.club/event/earlybirds-club-new-york-city-2/
LOCATION:Webster Hall\, 125 E 11th St\, New York\, NY\, 10003\, United States
CATEGORIES:New York
ATTACH;FMTTYPE=image/png:https://early-birds.club/wp-content/uploads/2025/10/NYC-PROM_05_30_2026_-768-x-768-4.png
ORGANIZER;CN="Earlybirds Club":MAILTO:info@early-birds.club
END:VEVENT
BEGIN:VEVENT
DTSTART;TZID=America/New_York:20260530T180000
DTEND;TZID=America/New_York:20260530T220000
DTSTAMP:20260423T040107
CREATED:20260106T013356Z
LAST-MODIFIED:20260326T145706Z
UID:6491-1780164000-1780178400@early-birds.club
SUMMARY:Earlybirds Club - Cleveland
DESCRIPTION:
URL:https://early-birds.club/event/earlybirds-club-cleveland-2/
LOCATION:Globe Iron\, 2320 Center St\, Cleveland\, OH\, 44113\, United States
CATEGORIES:Cleveland
ATTACH;FMTTYPE=image/png:https://early-birds.club/wp-content/uploads/2026/01/Cleveland_05_30_2026_-768-x-768-1-1.png
ORGANIZER;CN="Earlybirds Club":MAILTO:info@early-birds.club
END:VEVENT
BEGIN:VEVENT
DTSTART;TZID=America/New_York:20260530T180000
DTEND;TZID=America/New_York:20260530T220000
DTSTAMP:20260423T040107
CREATED:20260121T032219Z
LAST-MODIFIED:20260326T145616Z
UID:6543-1780164000-1780178400@early-birds.club
SUMMARY:Earlybirds Club - Baltimore 90s Prom
DESCRIPTION:
URL:https://early-birds.club/event/earlybirds-club-baltimore-4/
LOCATION:The Recher\, 512 York Rd\, Towson\, MD\, 21204\, United States
CATEGORIES:Baltimore
ATTACH;FMTTYPE=image/png:https://early-birds.club/wp-content/uploads/2026/01/Copy-of-Baltimore_05_30_2026_-768-x-768.png
ORGANIZER;CN="Earlybirds Club":MAILTO:info@early-birds.club
END:VEVENT
BEGIN:VEVENT
DTSTART;TZID=America/New_York:20260530T180000
DTEND;TZID=America/New_York:20260530T220000
DTSTAMP:20260423T040107
CREATED:20260228T205850Z
LAST-MODIFIED:20260414T150828Z
UID:6718-1780164000-1780178400@early-birds.club
SUMMARY:Earlybirds Club - Boston 90s Prom
DESCRIPTION:
URL:https://early-birds.club/event/earlybirds-club-boston-prom-party/
LOCATION:Royale\, 279 Tremont St\, Boston\, MA\, 02116\, United States
CATEGORIES:Boston
ATTACH;FMTTYPE=image/png:https://early-birds.club/wp-content/uploads/2026/02/Boston_05_30_2026_-768-x-768-3-1.png
ORGANIZER;CN="Earlybirds Club":MAILTO:info@early-birds.club
END:VEVENT
BEGIN:VEVENT
DTSTART;TZID=America/New_York:20260605T180000
DTEND;TZID=America/New_York:20260605T220000
DTSTAMP:20260423T040107
CREATED:20251218T010927Z
LAST-MODIFIED:20260402T141635Z
UID:6430-1780682400-1780696800@early-birds.club
SUMMARY:Earlybirds Club - Brooklyn Latin Night
DESCRIPTION:
URL:https://early-birds.club/event/earlybirds-club-brooklyn-5/
LOCATION:Music Hall of Williamsburg\, 66 N 6th St\, Brooklyn\, NY\, 11211\, United States
CATEGORIES:New York
ATTACH;FMTTYPE=image/png:https://early-birds.club/wp-content/uploads/2025/12/brooklyn-Latin-Night_06_05_2026_-768-x-768.png
ORGANIZER;CN="Earlybirds Club":MAILTO:info@early-birds.club
END:VEVENT
BEGIN:VEVENT
DTSTART;TZID=America/New_York:20260605T180000
DTEND;TZID=America/New_York:20260605T220000
DTSTAMP:20260423T040107
CREATED:20260213T232613Z
LAST-MODIFIED:20260402T140402Z
UID:6654-1780682400-1780696800@early-birds.club
SUMMARY:Earlybirds Club - Orlando
DESCRIPTION:
URL:https://early-birds.club/event/earlybirds-club-orlando-2/
LOCATION:The Beacham\, 46 N Orange Ave\, Orlando\, 32801\, United States
CATEGORIES:Orlando
ATTACH;FMTTYPE=image/png:https://early-birds.club/wp-content/uploads/2026/02/Copy-of-Orlando_06_05_2026_-768-x-768.png
ORGANIZER;CN="Earlybirds Club":MAILTO:info@early-birds.club
END:VEVENT
BEGIN:VEVENT
DTSTART;TZID=America/Chicago:20260605T180000
DTEND;TZID=America/Chicago:20260605T220000
DTSTAMP:20260423T040107
CREATED:20260318T030338Z
LAST-MODIFIED:20260416T161647Z
UID:6842-1780682400-1780696800@early-birds.club
SUMMARY:Earlybirds Club - Milwaukee Decades Party
DESCRIPTION:
URL:https://early-birds.club/event/earlybirds-club-milwaukee-3/
LOCATION:Turner Hall\, 1040 N Vel R. Phillips Ave\, Milwaukee\, WI\, 53203\, United States
CATEGORIES:Milwaukee
ATTACH;FMTTYPE=image/png:https://early-birds.club/wp-content/uploads/2026/03/Milwaukee_6_5_2026_Decades_-768-x-768.png
ORGANIZER;CN="Earlybirds Club":MAILTO:info@early-birds.club
END:VEVENT
BEGIN:VEVENT
DTSTART;TZID=America/Los_Angeles:20260605T180000
DTEND;TZID=America/Los_Angeles:20260605T220000
DTSTAMP:20260423T040107
CREATED:20260330T155141Z
LAST-MODIFIED:20260414T151022Z
UID:6941-1780682400-1780696800@early-birds.club
SUMMARY:Earlybirds Club - San Francisco 2000s Party
DESCRIPTION:
URL:https://early-birds.club/event/earlybirds-club-san-francisco-8/
LOCATION:The Independent\, 628 Divisadero St\, San Francisco\, CA\, 94117\, United States
CATEGORIES:San Francisco
ATTACH;FMTTYPE=image/png:https://early-birds.club/wp-content/uploads/2026/03/SF_6_5_2026_-768-x-768-Instagram-Post-45-1.png
ORGANIZER;CN="Earlybirds Club":MAILTO:info@early-birds.club
END:VEVENT
BEGIN:VEVENT
DTSTART;TZID=America/New_York:20260606T180000
DTEND;TZID=America/New_York:20260606T220000
DTSTAMP:20260423T040107
CREATED:20251028T174157Z
LAST-MODIFIED:20260416T140038Z
UID:5993-1780768800-1780783200@early-birds.club
SUMMARY:Earlybirds Club - Boston Decades Party
DESCRIPTION:
URL:https://early-birds.club/event/earlybirds-club-boston-5/
LOCATION:The Sinclair\, 52 Church St\, Cambridge\, MA\, 02138\, United States
CATEGORIES:Boston
ATTACH;FMTTYPE=image/png:https://early-birds.club/wp-content/uploads/2025/10/Boston_6_6_2026_Decades_-768-x-768.png
ORGANIZER;CN="Earlybirds Club":MAILTO:info@early-birds.club
END:VEVENT
END:VCALENDAR