BEGIN:VCALENDAR
VERSION:2.0
PRODID:-//Earlybirds Club - ECPv6.15.18//NONSGML v1.0//EN
CALSCALE:GREGORIAN
METHOD:PUBLISH
X-ORIGINAL-URL:https://early-birds.club
X-WR-CALDESC:Events for Earlybirds Club
REFRESH-INTERVAL;VALUE=DURATION:PT1H
X-Robots-Tag:noindex
X-PUBLISHED-TTL:PT1H
BEGIN:VTIMEZONE
TZID:America/New_York
BEGIN:DAYLIGHT
TZOFFSETFROM:-0500
TZOFFSETTO:-0400
TZNAME:EDT
DTSTART:20250309T070000
END:DAYLIGHT
BEGIN:STANDARD
TZOFFSETFROM:-0400
TZOFFSETTO:-0500
TZNAME:EST
DTSTART:20251102T060000
END:STANDARD
BEGIN:DAYLIGHT
TZOFFSETFROM:-0500
TZOFFSETTO:-0400
TZNAME:EDT
DTSTART:20260308T070000
END:DAYLIGHT
BEGIN:STANDARD
TZOFFSETFROM:-0400
TZOFFSETTO:-0500
TZNAME:EST
DTSTART:20261101T060000
END:STANDARD
BEGIN:DAYLIGHT
TZOFFSETFROM:-0500
TZOFFSETTO:-0400
TZNAME:EDT
DTSTART:20270314T070000
END:DAYLIGHT
BEGIN:STANDARD
TZOFFSETFROM:-0400
TZOFFSETTO:-0500
TZNAME:EST
DTSTART:20271107T060000
END:STANDARD
END:VTIMEZONE
BEGIN:VTIMEZONE
TZID:America/Los_Angeles
BEGIN:DAYLIGHT
TZOFFSETFROM:-0800
TZOFFSETTO:-0700
TZNAME:PDT
DTSTART:20250309T100000
END:DAYLIGHT
BEGIN:STANDARD
TZOFFSETFROM:-0700
TZOFFSETTO:-0800
TZNAME:PST
DTSTART:20251102T090000
END:STANDARD
BEGIN:DAYLIGHT
TZOFFSETFROM:-0800
TZOFFSETTO:-0700
TZNAME:PDT
DTSTART:20260308T100000
END:DAYLIGHT
BEGIN:STANDARD
TZOFFSETFROM:-0700
TZOFFSETTO:-0800
TZNAME:PST
DTSTART:20261101T090000
END:STANDARD
BEGIN:DAYLIGHT
TZOFFSETFROM:-0800
TZOFFSETTO:-0700
TZNAME:PDT
DTSTART:20270314T100000
END:DAYLIGHT
BEGIN:STANDARD
TZOFFSETFROM:-0700
TZOFFSETTO:-0800
TZNAME:PST
DTSTART:20271107T090000
END:STANDARD
END:VTIMEZONE
BEGIN:VTIMEZONE
TZID:America/Toronto
BEGIN:DAYLIGHT
TZOFFSETFROM:-0500
TZOFFSETTO:-0400
TZNAME:EDT
DTSTART:20250309T070000
END:DAYLIGHT
BEGIN:STANDARD
TZOFFSETFROM:-0400
TZOFFSETTO:-0500
TZNAME:EST
DTSTART:20251102T060000
END:STANDARD
BEGIN:DAYLIGHT
TZOFFSETFROM:-0500
TZOFFSETTO:-0400
TZNAME:EDT
DTSTART:20260308T070000
END:DAYLIGHT
BEGIN:STANDARD
TZOFFSETFROM:-0400
TZOFFSETTO:-0500
TZNAME:EST
DTSTART:20261101T060000
END:STANDARD
BEGIN:DAYLIGHT
TZOFFSETFROM:-0500
TZOFFSETTO:-0400
TZNAME:EDT
DTSTART:20270314T070000
END:DAYLIGHT
BEGIN:STANDARD
TZOFFSETFROM:-0400
TZOFFSETTO:-0500
TZNAME:EST
DTSTART:20271107T060000
END:STANDARD
END:VTIMEZONE
BEGIN:VTIMEZONE
TZID:America/Chicago
BEGIN:DAYLIGHT
TZOFFSETFROM:-0600
TZOFFSETTO:-0500
TZNAME:CDT
DTSTART:20250309T080000
END:DAYLIGHT
BEGIN:STANDARD
TZOFFSETFROM:-0500
TZOFFSETTO:-0600
TZNAME:CST
DTSTART:20251102T070000
END:STANDARD
BEGIN:DAYLIGHT
TZOFFSETFROM:-0600
TZOFFSETTO:-0500
TZNAME:CDT
DTSTART:20260308T080000
END:DAYLIGHT
BEGIN:STANDARD
TZOFFSETFROM:-0500
TZOFFSETTO:-0600
TZNAME:CST
DTSTART:20261101T070000
END:STANDARD
BEGIN:DAYLIGHT
TZOFFSETFROM:-0600
TZOFFSETTO:-0500
TZNAME:CDT
DTSTART:20270314T080000
END:DAYLIGHT
BEGIN:STANDARD
TZOFFSETFROM:-0500
TZOFFSETTO:-0600
TZNAME:CST
DTSTART:20271107T070000
END:STANDARD
END:VTIMEZONE
BEGIN:VTIMEZONE
TZID:America/Denver
BEGIN:DAYLIGHT
TZOFFSETFROM:-0700
TZOFFSETTO:-0600
TZNAME:MDT
DTSTART:20250309T090000
END:DAYLIGHT
BEGIN:STANDARD
TZOFFSETFROM:-0600
TZOFFSETTO:-0700
TZNAME:MST
DTSTART:20251102T080000
END:STANDARD
BEGIN:DAYLIGHT
TZOFFSETFROM:-0700
TZOFFSETTO:-0600
TZNAME:MDT
DTSTART:20260308T090000
END:DAYLIGHT
BEGIN:STANDARD
TZOFFSETFROM:-0600
TZOFFSETTO:-0700
TZNAME:MST
DTSTART:20261101T080000
END:STANDARD
BEGIN:DAYLIGHT
TZOFFSETFROM:-0700
TZOFFSETTO:-0600
TZNAME:MDT
DTSTART:20270314T090000
END:DAYLIGHT
BEGIN:STANDARD
TZOFFSETFROM:-0600
TZOFFSETTO:-0700
TZNAME:MST
DTSTART:20271107T080000
END:STANDARD
END:VTIMEZONE
BEGIN:VTIMEZONE
TZID:America/Phoenix
BEGIN:STANDARD
TZOFFSETFROM:-0700
TZOFFSETTO:-0700
TZNAME:MST
DTSTART:20250101T000000
END:STANDARD
END:VTIMEZONE
BEGIN:VEVENT
DTSTART;TZID=America/New_York:20260320T180000
DTEND;TZID=America/New_York:20260320T220000
DTSTAMP:20260419T075605
CREATED:20251028T172921Z
LAST-MODIFIED:20260319T221832Z
UID:5977-1774029600-1774044000@early-birds.club
SUMMARY:Earlybirds Club - Charlotte
DESCRIPTION:
URL:https://early-birds.club/event/earlybirds-club-charlotte/
LOCATION:Amos’ Southend\, 1423 S Tryon St\, Charlotte\, NC\, 28203\, United States
CATEGORIES:Charlotte
ATTACH;FMTTYPE=image/png:https://early-birds.club/wp-content/uploads/2025/10/Charlotte_03.20.2026_768x768-2.png
ORGANIZER;CN="Earlybirds Club":MAILTO:info@early-birds.club
END:VEVENT
BEGIN:VEVENT
DTSTART;TZID=America/New_York:20260314T180000
DTEND;TZID=America/New_York:20260314T220000
DTSTAMP:20260419T075605
CREATED:20251028T172736Z
LAST-MODIFIED:20260105T231619Z
UID:5975-1773511200-1773525600@early-birds.club
SUMMARY:Earlybirds Club - DC
DESCRIPTION:
URL:https://early-birds.club/event/earlybirds-club-dc-4/
LOCATION:The Fillmore\, 8656 Colesville Rd\, Silver Spring\, MD\, 20910\, United States
CATEGORIES:DC
ATTACH;FMTTYPE=image/png:https://early-birds.club/wp-content/uploads/2025/10/DC_03.14.2026_-768-x-768-4.png
ORGANIZER;CN="Earlybirds Club":MAILTO:info@early-birds.club
END:VEVENT
BEGIN:VEVENT
DTSTART;TZID=America/New_York:20260314T180000
DTEND;TZID=America/New_York:20260314T220000
DTSTAMP:20260419T075605
CREATED:20251028T172614Z
LAST-MODIFIED:20260114T174350Z
UID:5973-1773511200-1773525600@early-birds.club
SUMMARY:Earlybirds Club - Philadelphia
DESCRIPTION:
URL:https://early-birds.club/event/earlybirds-club-philadelphia-3/
LOCATION:Brooklyn Bowl\, 1009 Canal St\, Philadelphia\, PA\, 19123\, United States
CATEGORIES:Philadelphia
ATTACH;FMTTYPE=image/png:https://early-birds.club/wp-content/uploads/2025/10/Philly_03_14_2025-1.png
ORGANIZER;CN="Earlybirds Club":MAILTO:info@early-birds.club
END:VEVENT
BEGIN:VEVENT
DTSTART;TZID=America/Los_Angeles:20260314T180000
DTEND;TZID=America/Los_Angeles:20260314T220000
DTSTAMP:20260419T075605
CREATED:20251028T172412Z
LAST-MODIFIED:20251125T204228Z
UID:5971-1773511200-1773525600@early-birds.club
SUMMARY:Earlybirds Club - San Francisco
DESCRIPTION:
URL:https://early-birds.club/event/earlybirds-club-san-francisco/
LOCATION:The Independent\, 628 Divisadero St\, San Francisco\, CA\, 94117\, United States
CATEGORIES:Bay Area,San Francisco
ATTACH;FMTTYPE=image/png:https://early-birds.club/wp-content/uploads/2025/10/1.png
ORGANIZER;CN="Earlybirds Club":MAILTO:info@early-birds.club
END:VEVENT
BEGIN:VEVENT
DTSTART;TZID=America/Toronto:20260313T180000
DTEND;TZID=America/Toronto:20260313T220000
DTSTAMP:20260419T075605
CREATED:20251206T211253Z
LAST-MODIFIED:20260303T142323Z
UID:6387-1773424800-1773439200@early-birds.club
SUMMARY:Earlybirds Club - Toronto
DESCRIPTION:
URL:https://early-birds.club/event/earlybirds-club-toronto/
LOCATION:Annabel’s Music Hall\, 200 Princes' Blvd\, Toronto\, Ontario\, M6K 3C3\, Canada
CATEGORIES:Toronto
ATTACH;FMTTYPE=image/png:https://early-birds.club/wp-content/uploads/2025/12/Toronto_03.13.2026_-768-x-768-1.png
ORGANIZER;CN="Earlybirds Club":MAILTO:info@early-birds.club
END:VEVENT
BEGIN:VEVENT
DTSTART;TZID=America/New_York:20260313T180000
DTEND;TZID=America/New_York:20260313T220000
DTSTAMP:20260419T075605
CREATED:20251125T135223Z
LAST-MODIFIED:20260112T135704Z
UID:6312-1773424800-1773439200@early-birds.club
SUMMARY:Earlybirds Club - Baltimore
DESCRIPTION:
URL:https://early-birds.club/event/earlybirds-club-baltimore-3/
LOCATION:The Recher\, 512 York Rd\, Towson\, MD\, 21204\, United States
CATEGORIES:Baltimore
ATTACH;FMTTYPE=image/png:https://early-birds.club/wp-content/uploads/2025/11/Baltimore_03.13.2026_-768-x-768-2.png
ORGANIZER;CN="Earlybirds Club":MAILTO:info@early-birds.club
END:VEVENT
BEGIN:VEVENT
DTSTART;TZID=America/Chicago:20260307T180000
DTEND;TZID=America/Chicago:20260307T220000
DTSTAMP:20260419T075605
CREATED:20260109T160015Z
LAST-MODIFIED:20260109T135122Z
UID:6497-1772906400-1772920800@early-birds.club
SUMMARY:Earlybirds Club - Milwaukee
DESCRIPTION:
URL:https://early-birds.club/event/earlybirds-club-milwaukee-2/
LOCATION:Vivarium\, 1818 N Farwell Ave\, Milwaukee\, WI\, 53202\, United States
CATEGORIES:Milwaukee
ATTACH;FMTTYPE=image/png:https://early-birds.club/wp-content/uploads/2026/01/Milwaukee_03_07_2026_-768-x-768.png
ORGANIZER;CN="Earlybirds Club":MAILTO:info@early-birds.club
END:VEVENT
BEGIN:VEVENT
DTSTART;TZID=America/Los_Angeles:20260307T180000
DTEND;TZID=America/Los_Angeles:20260307T220000
DTSTAMP:20260419T075605
CREATED:20251028T192803Z
LAST-MODIFIED:20251122T014153Z
UID:6015-1772906400-1772920800@early-birds.club
SUMMARY:80s Night - LA
DESCRIPTION:
URL:https://early-birds.club/event/earlybirds-club-la-5/
LOCATION:Teragram Ballroom\, 1234 W 7th St\, Los Angeles\, CA\, 90017
CATEGORIES:LA
ATTACH;FMTTYPE=image/png:https://early-birds.club/wp-content/uploads/2025/10/LA_3_7_2026_-768-x-768-px-1.png
ORGANIZER;CN="Earlybirds Club":MAILTO:info@early-birds.club
END:VEVENT
BEGIN:VEVENT
DTSTART;TZID=America/Denver:20260306T180000
DTEND;TZID=America/Denver:20260306T220000
DTSTAMP:20260419T075605
CREATED:20260113T160120Z
LAST-MODIFIED:20260302T013702Z
UID:6507-1772820000-1772834400@early-birds.club
SUMMARY:Earlybirds Club - Denver
DESCRIPTION:
URL:https://early-birds.club/event/earlybirds-club-denver-2/
LOCATION:Gothic Theatre\, 3263 S Broadway\, Englewood\, CO\, 80113\, United States
CATEGORIES:Denver
ATTACH;FMTTYPE=image/png:https://early-birds.club/wp-content/uploads/2026/01/Denver_03_06_2026_-768-x-768-1.png
ORGANIZER;CN="Earlybirds Club":MAILTO:info@early-birds.club
END:VEVENT
BEGIN:VEVENT
DTSTART;TZID=America/Los_Angeles:20260306T180000
DTEND;TZID=America/Los_Angeles:20260306T220000
DTSTAMP:20260419T075605
CREATED:20251028T192643Z
LAST-MODIFIED:20251223T224758Z
UID:6013-1772820000-1772834400@early-birds.club
SUMMARY:Hip-Hop & R&B Night - LA
DESCRIPTION:
URL:https://early-birds.club/event/earlybirds-club-la-4/
LOCATION:Teragram Ballroom\, 1234 W 7th St\, Los Angeles\, CA\, 90017
CATEGORIES:LA
ATTACH;FMTTYPE=image/png:https://early-birds.club/wp-content/uploads/2025/10/LA_3_6_2026_-768-x-768-px-1.png
ORGANIZER;CN="Earlybirds Club":MAILTO:info@early-birds.club
END:VEVENT
BEGIN:VEVENT
DTSTART;TZID=America/Chicago:20260306T180000
DTEND;TZID=America/Chicago:20260306T220000
DTSTAMP:20260419T075605
CREATED:20251028T172222Z
LAST-MODIFIED:20260129T182728Z
UID:5969-1772820000-1772834400@early-birds.club
SUMMARY:Earlybirds Club - Milwaukee
DESCRIPTION:
URL:https://early-birds.club/event/earlybirds-club-milwaukee/
LOCATION:Vivarium\, 1818 N Farwell Ave\, Milwaukee\, WI\, 53202\, United States
CATEGORIES:Milwaukee
ATTACH;FMTTYPE=image/png:https://early-birds.club/wp-content/uploads/2025/10/Milwaukee-768-x-768-2.png
ORGANIZER;CN="Earlybirds Club":MAILTO:info@early-birds.club
END:VEVENT
BEGIN:VEVENT
DTSTART;TZID=America/New_York:20260228T180000
DTEND;TZID=America/New_York:20260228T220000
DTSTAMP:20260419T075605
CREATED:20251216T043957Z
LAST-MODIFIED:20251216T043957Z
UID:6409-1772301600-1772316000@early-birds.club
SUMMARY:Earlybirds Club - Atlanta
DESCRIPTION:
URL:https://early-birds.club/event/earlybirds-club-atlanta-2/
LOCATION:The Loft\, 1374 W Peachtree St\, Atlanta\, GA\, 30309\, United States
CATEGORIES:Atlanta
ATTACH;FMTTYPE=image/png:https://early-birds.club/wp-content/uploads/2025/10/ATL_02_28_2026_768-x-768-px-1.png
ORGANIZER;CN="Earlybirds Club":MAILTO:info@early-birds.club
END:VEVENT
BEGIN:VEVENT
DTSTART;TZID=America/New_York:20260228T180000
DTEND;TZID=America/New_York:20260228T220000
DTSTAMP:20260419T075605
CREATED:20251028T171749Z
LAST-MODIFIED:20251120T182120Z
UID:5966-1772301600-1772316000@early-birds.club
SUMMARY:Earlybirds Club - New York City
DESCRIPTION:
URL:https://early-birds.club/event/earlybirds-club-new-york-city/
LOCATION:Webster Hall\, 125 E 11th St\, New York\, NY\, 10003\, United States
CATEGORIES:New York
ATTACH;FMTTYPE=image/png:https://early-birds.club/wp-content/uploads/2025/10/NYC_02.28.2026_-768-x-768.png
ORGANIZER;CN="Earlybirds Club":MAILTO:info@early-birds.club
END:VEVENT
BEGIN:VEVENT
DTSTART;TZID=America/Los_Angeles:20260228T180000
DTEND;TZID=America/Los_Angeles:20260228T220000
DTSTAMP:20260419T075605
CREATED:20251024T205800Z
LAST-MODIFIED:20251214T083253Z
UID:5929-1772301600-1772316000@early-birds.club
SUMMARY:Earlybirds Club - Portland
DESCRIPTION:
URL:https://early-birds.club/event/earlybirds-club-portland-2/
LOCATION:Wonder Ballroom\, 128 NE Russell St\, Portland\, OR\, 97212\, United States
CATEGORIES:Portland
ATTACH;FMTTYPE=image/png:https://early-birds.club/wp-content/uploads/2025/10/Copy-of-Portland_02_28_2026_768x768.png
ORGANIZER;CN="Earlybirds Club":MAILTO:info@early-birds.club
END:VEVENT
BEGIN:VEVENT
DTSTART;TZID=America/New_York:20260227T180000
DTEND;TZID=America/New_York:20260227T220000
DTSTAMP:20260419T075605
CREATED:20251104T145140Z
LAST-MODIFIED:20251217T193144Z
UID:6070-1772215200-1772229600@early-birds.club
SUMMARY:Earlybirds Club - DC
DESCRIPTION:
URL:https://early-birds.club/event/earlybirds-club-dc-8/
LOCATION:The Fillmore\, 8656 Colesville Rd\, Silver Spring\, MD\, 20910\, United States
CATEGORIES:DC
ATTACH;FMTTYPE=image/png:https://early-birds.club/wp-content/uploads/2025/11/DC_02.27.2026_-768-x-768-1.png
ORGANIZER;CN="Earlybirds Club":MAILTO:info@early-birds.club
END:VEVENT
BEGIN:VEVENT
DTSTART;TZID=America/Chicago:20260227T180000
DTEND;TZID=America/Chicago:20260227T220000
DTSTAMP:20260419T075605
CREATED:20251028T144312Z
LAST-MODIFIED:20260208T223733Z
UID:5962-1772215200-1772229600@early-birds.club
SUMMARY:Earlybirds Club - Kansas City
DESCRIPTION:
URL:https://early-birds.club/event/earlybirds-club-kansas-city/
LOCATION:Warehouse on Broadway\, 3951 Broadway Blvd\, Kansas City\, MO\, 64111\, United States
CATEGORIES:Kansas City
ATTACH;FMTTYPE=image/png:https://early-birds.club/wp-content/uploads/2025/10/Kansas-CIty_02_27_2026_768-x-768-px-b.png
ORGANIZER;CN="Earlybirds Club":MAILTO:info@early-birds.club
END:VEVENT
BEGIN:VEVENT
DTSTART;TZID=America/New_York:20260227T180000
DTEND;TZID=America/New_York:20260227T220000
DTSTAMP:20260419T075605
CREATED:20250923T140028Z
LAST-MODIFIED:20250925T192832Z
UID:5672-1772215200-1772229600@early-birds.club
SUMMARY:Girl Power Scream-Along  - Boston
DESCRIPTION:
URL:https://early-birds.club/event/girl-power-scream-along-boston/
LOCATION:The Sinclair\, 52 Church St\, Cambridge\, MA\, 02138\, United States
CATEGORIES:Boston
ATTACH;FMTTYPE=image/png:https://early-birds.club/wp-content/uploads/2025/09/Copy-of-Boston_02-27_2026_768x768px-1.png
ORGANIZER;CN="Earlybirds Club":MAILTO:info@early-birds.club
END:VEVENT
BEGIN:VEVENT
DTSTART;TZID=America/Chicago:20260221T180000
DTEND;TZID=America/Chicago:20260221T220000
DTSTAMP:20260419T075605
CREATED:20251030T010406Z
LAST-MODIFIED:20251115T213215Z
UID:6031-1771696800-1771711200@early-birds.club
SUMMARY:Earlybirds Club - Chicago
DESCRIPTION:
URL:https://early-birds.club/event/earlybirds-club-chicago-6/
LOCATION:Thalia Hall\, 1807 S Allport St\, Chicago\, IL\, 60608\, United States
CATEGORIES:Chicago
ATTACH;FMTTYPE=image/png:https://early-birds.club/wp-content/uploads/2025/10/Chicago_02.21.2026_-768-x-768.png
ORGANIZER;CN="Earlybirds Club":MAILTO:info@early-birds.club
END:VEVENT
BEGIN:VEVENT
DTSTART;TZID=America/Chicago:20260221T180000
DTEND;TZID=America/Chicago:20260221T220000
DTSTAMP:20260419T075605
CREATED:20251014T150053Z
LAST-MODIFIED:20260116T044631Z
UID:5823-1771696800-1771711200@early-birds.club
SUMMARY:Earlybirds Club - Dallas
DESCRIPTION:
URL:https://early-birds.club/event/earlybirds-club-dallas/
LOCATION:The Studio at the Bomb Factory\, 2727 Canton St\, Dallas\, TX\, 75226\, United States
CATEGORIES:Dallas
ATTACH;FMTTYPE=image/png:https://early-birds.club/wp-content/uploads/2025/10/Dallas-768-x-768-4.png
ORGANIZER;CN="Earlybirds Club":MAILTO:info@early-birds.club
END:VEVENT
BEGIN:VEVENT
DTSTART;TZID=America/Chicago:20260221T180000
DTEND;TZID=America/Chicago:20260221T220000
DTSTAMP:20260419T075605
CREATED:20251010T170054Z
LAST-MODIFIED:20251013T175306Z
UID:5816-1771696800-1771711200@early-birds.club
SUMMARY:Earlybirds Club - LA
DESCRIPTION:
URL:https://early-birds.club/event/earlybirds-club-la-3/
LOCATION:Teragram Ballroom\, 1234 W 7th St\, Los Angeles\, CA\, 90017
CATEGORIES:LA
ATTACH;FMTTYPE=image/png:https://early-birds.club/wp-content/uploads/2025/10/LA_2_21_2026_-768-x-768-px-1.png
ORGANIZER;CN="Earlybirds Club":MAILTO:info@early-birds.club
END:VEVENT
BEGIN:VEVENT
DTSTART;TZID=America/Chicago:20260220T180000
DTEND;TZID=America/Chicago:20260220T220000
DTSTAMP:20260419T075605
CREATED:20251009T040414Z
LAST-MODIFIED:20260220T161113Z
UID:5807-1771610400-1771624800@early-birds.club
SUMMARY:Earlybirds Club - Houston
DESCRIPTION:
URL:https://early-birds.club/event/earlybirds-club-houston/
LOCATION:White Oak Music Hall\, 2915 N Main St\, Houston\, TX\, 77009\, United States
CATEGORIES:Houston
ATTACH;FMTTYPE=image/png:https://early-birds.club/wp-content/uploads/2025/10/Houston-768-x-768.png
ORGANIZER;CN="Earlybirds Club":MAILTO:info@early-birds.club
END:VEVENT
BEGIN:VEVENT
DTSTART;TZID=America/Los_Angeles:20260220T180000
DTEND;TZID=America/Los_Angeles:20260220T220000
DTSTAMP:20260419T075605
CREATED:20251007T170040Z
LAST-MODIFIED:20251009T191503Z
UID:5788-1771610400-1771624800@early-birds.club
SUMMARY:Earlybirds Club - LA
DESCRIPTION:
URL:https://early-birds.club/event/earlybirds-club-la-2/
LOCATION:Teragram Ballroom\, 1234 W 7th St\, Los Angeles\, CA\, 90017
CATEGORIES:LA
ATTACH;FMTTYPE=image/png:https://early-birds.club/wp-content/uploads/2025/10/LA_2_20_2026_-768-x-768-2.png
ORGANIZER;CN="Earlybirds Club":MAILTO:info@early-birds.club
END:VEVENT
BEGIN:VEVENT
DTSTART;TZID=America/Phoenix:20260213T180000
DTEND;TZID=America/Phoenix:20260213T220000
DTSTAMP:20260419T075605
CREATED:20251125T202406Z
LAST-MODIFIED:20260212T214815Z
UID:6322-1771005600-1771020000@early-birds.club
SUMMARY:Earlybirds Club - Phoenix
DESCRIPTION:
URL:https://early-birds.club/event/earlybirds-club-phoenix-2/
LOCATION:Marquee Theatre\, 730 N Mill Ave\, Tempe\, AZ\, 85288\, United States
CATEGORIES:Phoenix
ATTACH;FMTTYPE=image/png:https://early-birds.club/wp-content/uploads/2025/11/Phoenix_02.20.2026_-768-x-768-2.png
ORGANIZER;CN="Earlybirds Club":MAILTO:info@early-birds.club
END:VEVENT
BEGIN:VEVENT
DTSTART;TZID=America/New_York:20260213T180000
DTEND;TZID=America/New_York:20260213T220000
DTSTAMP:20260419T075605
CREATED:20251125T135548Z
LAST-MODIFIED:20251204T174036Z
UID:6315-1771005600-1771020000@early-birds.club
SUMMARY:Earlybirds Club - Boston
DESCRIPTION:
URL:https://early-birds.club/event/earlybirds-club-boston-12/
LOCATION:The Sinclair\, 52 Church St\, Cambridge\, MA\, 02138\, United States
CATEGORIES:Boston
ATTACH;FMTTYPE=image/png:https://early-birds.club/wp-content/uploads/2025/11/Boston_Galentines_2026_-768-x-768.png
ORGANIZER;CN="Earlybirds Club":MAILTO:info@early-birds.club
END:VEVENT
BEGIN:VEVENT
DTSTART;TZID=America/New_York:20260207T180000
DTEND;TZID=America/New_York:20260207T220000
DTSTAMP:20260419T075605
CREATED:20251030T010545Z
LAST-MODIFIED:20260131T192726Z
UID:6033-1770487200-1770501600@early-birds.club
SUMMARY:Earlybirds Club - Long Island
DESCRIPTION:
URL:https://early-birds.club/event/earlybirds-club-long-island/
LOCATION:Mulcahy’s\, 3232 Railroad Ave\, Wantagh\, NY\, 11793\, United States
CATEGORIES:Long Island, NY,New York
ATTACH;FMTTYPE=image/png:https://early-birds.club/wp-content/uploads/2025/10/2.png
ORGANIZER;CN="Earlybirds Club":MAILTO:info@early-birds.club
END:VEVENT
BEGIN:VEVENT
DTSTART;TZID=America/Los_Angeles:20260207T180000
DTEND;TZID=America/Los_Angeles:20260207T220000
DTSTAMP:20260419T075605
CREATED:20251028T194816Z
LAST-MODIFIED:20251222T014956Z
UID:6023-1770487200-1770501600@early-birds.club
SUMMARY:Earlybirds Club - Seattle
DESCRIPTION:
URL:https://early-birds.club/event/earlybirds-club-seattle-5/
LOCATION:The Crocodile\, 2505 1st Ave\, Seattle\, WA\, 98121\, United States
CATEGORIES:Seattle
ATTACH;FMTTYPE=image/png:https://early-birds.club/wp-content/uploads/2025/10/2-7-Seattle.png
ORGANIZER;CN="Earlybirds Club":MAILTO:info@early-birds.club
END:VEVENT
BEGIN:VEVENT
DTSTART;TZID=America/Chicago:20260207T180000
DTEND;TZID=America/Chicago:20260207T220000
DTSTAMP:20260419T075605
CREATED:20251021T150011Z
LAST-MODIFIED:20251023T171630Z
UID:5896-1770487200-1770501600@early-birds.club
SUMMARY:Earlybirds Club - Chicago Galentine's Party
DESCRIPTION:
URL:https://early-birds.club/event/earlybirds-club-chicago-galentines-party/
LOCATION:Park West\, 322 W Armitage Ave\, Chicago\, IL\, 60614\, United States
CATEGORIES:Chicago
ATTACH;FMTTYPE=image/jpeg:https://early-birds.club/wp-content/uploads/2025/10/Galentines_2026_-768-x-768.jpg
ORGANIZER;CN="Earlybirds Club":MAILTO:info@early-birds.club
END:VEVENT
BEGIN:VEVENT
DTSTART;TZID=America/New_York:20260207T180000
DTEND;TZID=America/New_York:20260207T220000
DTSTAMP:20260419T075605
CREATED:20251014T140056Z
LAST-MODIFIED:20260205T034602Z
UID:5827-1770487200-1770501600@early-birds.club
SUMMARY:Earlybirds Club - Fort Lauderdale
DESCRIPTION:
URL:https://early-birds.club/event/earlybirds-club-fort-lauderdale/
LOCATION:Revolution\, 100 SW 3rd Ave\, Fort Lauderdale\, FL\, 33312\, United States
CATEGORIES:Fort Lauderdale
ATTACH;FMTTYPE=image/png:https://early-birds.club/wp-content/uploads/2025/10/Ft-Lauderdale-768-x-768-1.png
ORGANIZER;CN="Earlybirds Club":MAILTO:info@early-birds.club
END:VEVENT
BEGIN:VEVENT
DTSTART;TZID=America/New_York:20260206T180000
DTEND;TZID=America/New_York:20260206T220000
DTSTAMP:20260419T075605
CREATED:20251116T233021Z
LAST-MODIFIED:20260116T003534Z
UID:6245-1770400800-1770415200@early-birds.club
SUMMARY:Earlybirds Club - Providence
DESCRIPTION:
URL:https://early-birds.club/event/earlybirds-club-providence/
LOCATION:The Met\, 1005 Main St\, Pawtucket\, RI\, 02860\, United States
CATEGORIES:Providence
ATTACH;FMTTYPE=image/png:https://early-birds.club/wp-content/uploads/2025/11/Providence_2_06_2026_768-x-768-px-2.png
ORGANIZER;CN="Earlybirds Club":MAILTO:info@early-birds.club
END:VEVENT
BEGIN:VEVENT
DTSTART;TZID=America/Los_Angeles:20260206T180000
DTEND;TZID=America/Los_Angeles:20260206T220000
DTSTAMP:20260419T075605
CREATED:20251028T175309Z
LAST-MODIFIED:20251224T183754Z
UID:6009-1770400800-1770415200@early-birds.club
SUMMARY:Earlybirds Club - Seattle
DESCRIPTION:
URL:https://early-birds.club/event/earlybirds-club-seattle-2/
LOCATION:The Crocodile\, 2505 1st Ave\, Seattle\, WA\, 98121\, United States
CATEGORIES:Seattle
ATTACH;FMTTYPE=image/png:https://early-birds.club/wp-content/uploads/2025/10/2-6-seattle.png
ORGANIZER;CN="Earlybirds Club":MAILTO:info@early-birds.club
END:VEVENT
END:VCALENDAR