BEGIN:VCALENDAR
VERSION:2.0
PRODID:-//Earlybirds Club - ECPv6.15.18//NONSGML v1.0//EN
CALSCALE:GREGORIAN
METHOD:PUBLISH
X-WR-CALNAME:Earlybirds Club
X-ORIGINAL-URL:https://early-birds.club
X-WR-CALDESC:Events for Earlybirds Club
REFRESH-INTERVAL;VALUE=DURATION:PT1H
X-Robots-Tag:noindex
X-PUBLISHED-TTL:PT1H
BEGIN:VTIMEZONE
TZID:America/New_York
BEGIN:DAYLIGHT
TZOFFSETFROM:-0500
TZOFFSETTO:-0400
TZNAME:EDT
DTSTART:20250309T070000
END:DAYLIGHT
BEGIN:STANDARD
TZOFFSETFROM:-0400
TZOFFSETTO:-0500
TZNAME:EST
DTSTART:20251102T060000
END:STANDARD
BEGIN:DAYLIGHT
TZOFFSETFROM:-0500
TZOFFSETTO:-0400
TZNAME:EDT
DTSTART:20260308T070000
END:DAYLIGHT
BEGIN:STANDARD
TZOFFSETFROM:-0400
TZOFFSETTO:-0500
TZNAME:EST
DTSTART:20261101T060000
END:STANDARD
BEGIN:DAYLIGHT
TZOFFSETFROM:-0500
TZOFFSETTO:-0400
TZNAME:EDT
DTSTART:20270314T070000
END:DAYLIGHT
BEGIN:STANDARD
TZOFFSETFROM:-0400
TZOFFSETTO:-0500
TZNAME:EST
DTSTART:20271107T060000
END:STANDARD
END:VTIMEZONE
BEGIN:VTIMEZONE
TZID:America/Los_Angeles
BEGIN:DAYLIGHT
TZOFFSETFROM:-0800
TZOFFSETTO:-0700
TZNAME:PDT
DTSTART:20250309T100000
END:DAYLIGHT
BEGIN:STANDARD
TZOFFSETFROM:-0700
TZOFFSETTO:-0800
TZNAME:PST
DTSTART:20251102T090000
END:STANDARD
BEGIN:DAYLIGHT
TZOFFSETFROM:-0800
TZOFFSETTO:-0700
TZNAME:PDT
DTSTART:20260308T100000
END:DAYLIGHT
BEGIN:STANDARD
TZOFFSETFROM:-0700
TZOFFSETTO:-0800
TZNAME:PST
DTSTART:20261101T090000
END:STANDARD
BEGIN:DAYLIGHT
TZOFFSETFROM:-0800
TZOFFSETTO:-0700
TZNAME:PDT
DTSTART:20270314T100000
END:DAYLIGHT
BEGIN:STANDARD
TZOFFSETFROM:-0700
TZOFFSETTO:-0800
TZNAME:PST
DTSTART:20271107T090000
END:STANDARD
END:VTIMEZONE
BEGIN:VTIMEZONE
TZID:America/Chicago
BEGIN:DAYLIGHT
TZOFFSETFROM:-0600
TZOFFSETTO:-0500
TZNAME:CDT
DTSTART:20250309T080000
END:DAYLIGHT
BEGIN:STANDARD
TZOFFSETFROM:-0500
TZOFFSETTO:-0600
TZNAME:CST
DTSTART:20251102T070000
END:STANDARD
BEGIN:DAYLIGHT
TZOFFSETFROM:-0600
TZOFFSETTO:-0500
TZNAME:CDT
DTSTART:20260308T080000
END:DAYLIGHT
BEGIN:STANDARD
TZOFFSETFROM:-0500
TZOFFSETTO:-0600
TZNAME:CST
DTSTART:20261101T070000
END:STANDARD
BEGIN:DAYLIGHT
TZOFFSETFROM:-0600
TZOFFSETTO:-0500
TZNAME:CDT
DTSTART:20270314T080000
END:DAYLIGHT
BEGIN:STANDARD
TZOFFSETFROM:-0500
TZOFFSETTO:-0600
TZNAME:CST
DTSTART:20271107T070000
END:STANDARD
END:VTIMEZONE
BEGIN:VTIMEZONE
TZID:America/Denver
BEGIN:DAYLIGHT
TZOFFSETFROM:-0700
TZOFFSETTO:-0600
TZNAME:MDT
DTSTART:20250309T090000
END:DAYLIGHT
BEGIN:STANDARD
TZOFFSETFROM:-0600
TZOFFSETTO:-0700
TZNAME:MST
DTSTART:20251102T080000
END:STANDARD
BEGIN:DAYLIGHT
TZOFFSETFROM:-0700
TZOFFSETTO:-0600
TZNAME:MDT
DTSTART:20260308T090000
END:DAYLIGHT
BEGIN:STANDARD
TZOFFSETFROM:-0600
TZOFFSETTO:-0700
TZNAME:MST
DTSTART:20261101T080000
END:STANDARD
BEGIN:DAYLIGHT
TZOFFSETFROM:-0700
TZOFFSETTO:-0600
TZNAME:MDT
DTSTART:20270314T090000
END:DAYLIGHT
BEGIN:STANDARD
TZOFFSETFROM:-0600
TZOFFSETTO:-0700
TZNAME:MST
DTSTART:20271107T080000
END:STANDARD
END:VTIMEZONE
BEGIN:VTIMEZONE
TZID:America/Phoenix
BEGIN:STANDARD
TZOFFSETFROM:-0700
TZOFFSETTO:-0700
TZNAME:MST
DTSTART:20250101T000000
END:STANDARD
END:VTIMEZONE
BEGIN:VEVENT
DTSTART;TZID=America/New_York:20260626T180000
DTEND;TZID=America/New_York:20260626T220000
DTSTAMP:20260421T081245
CREATED:20260412T143617Z
LAST-MODIFIED:20260416T135813Z
UID:7064-1782496800-1782511200@early-birds.club
SUMMARY:Earlybirds Club - Pittsburgh
DESCRIPTION:
URL:https://early-birds.club/event/earlybirds-club-pittsburgh/
LOCATION:Stage AE\, 400 North Shore Drive\, Pittsburgh\, PA\, 15212\, United States
CATEGORIES:Pittsburgh
ATTACH;FMTTYPE=image/png:https://early-birds.club/wp-content/uploads/2026/04/PITTSBURGH__06_26_2026_-768-x-768-2.png
ORGANIZER;CN="Earlybirds Club":MAILTO:info@early-birds.club
END:VEVENT
BEGIN:VEVENT
DTSTART;TZID=America/Los_Angeles:20260627T180000
DTEND;TZID=America/Los_Angeles:20260627T220000
DTSTAMP:20260421T081245
CREATED:20251218T014432Z
LAST-MODIFIED:20260421T022451Z
UID:6458-1782583200-1782597600@early-birds.club
SUMMARY:Earlybirds Club - LA 80s + New Wave Party
DESCRIPTION:
URL:https://early-birds.club/event/earlybirds-club-la-6/
LOCATION:The Fonda Theatre\, 6126 Hollywood Blvd\, Los Angeles\, 90028\, United States
CATEGORIES:LA
ATTACH;FMTTYPE=image/png:https://early-birds.club/wp-content/uploads/2025/12/LA_6_27_2026_80sNewWave_-768-x-768-6.png
ORGANIZER;CN="Earlybirds Club":MAILTO:info@early-birds.club
END:VEVENT
BEGIN:VEVENT
DTSTART;TZID=America/Chicago:20260627T180000
DTEND;TZID=America/Chicago:20260627T220000
DTSTAMP:20260421T081245
CREATED:20260304T192025Z
LAST-MODIFIED:20260402T142656Z
UID:6762-1782583200-1782597600@early-birds.club
SUMMARY:Earlybirds Club - Atlanta Decades Party
DESCRIPTION:
URL:https://early-birds.club/event/earlybirds-club-atlanta-4/
LOCATION:Masquerade\, 50 Lower Alabama St\, Atlanta\, GA\, 30303\, United States
CATEGORIES:Atlanta
ATTACH;FMTTYPE=image/png:https://early-birds.club/wp-content/uploads/2026/03/Atlanta_-Decades_06.27.2026_-768-x-768.png
ORGANIZER;CN="Earlybirds Club":MAILTO:info@early-birds.club
END:VEVENT
BEGIN:VEVENT
DTSTART;TZID=America/Denver:20260627T180000
DTEND;TZID=America/Denver:20260627T220000
DTSTAMP:20260421T081245
CREATED:20260310T123930Z
LAST-MODIFIED:20260409T165115Z
UID:6801-1782583200-1782597600@early-birds.club
SUMMARY:Earlybirds Club - Salt Lake City
DESCRIPTION:
URL:https://early-birds.club/event/earlybirds-club-salt-lake-city/
LOCATION:The Commonwealth Room\, 195 W 2100 S Expy\, South Salt Lake\, UT\, 84115\, United States
CATEGORIES:Salt Lake City
ATTACH;FMTTYPE=image/png:https://early-birds.club/wp-content/uploads/2026/03/SLC__06_27_2026_-768-x-768-1-1.png
ORGANIZER;CN="Earlybirds Club":MAILTO:info@early-birds.club
END:VEVENT
BEGIN:VEVENT
DTSTART;TZID=America/New_York:20260627T180000
DTEND;TZID=America/New_York:20260627T220000
DTSTAMP:20260421T081245
CREATED:20260421T023147Z
LAST-MODIFIED:20260421T023147Z
UID:7157-1782583200-1782597600@early-birds.club
SUMMARY:Earlybirds Club - Columbus
DESCRIPTION:
URL:https://early-birds.club/event/earlybirds-club-columbus/
LOCATION:Newport Music Hall\, 1722 High St\, Columbus\, OH\, 43201\, United States
CATEGORIES:Columbus
ATTACH;FMTTYPE=image/png:https://early-birds.club/wp-content/uploads/2026/04/Columbus__06_27_2026_-768-x-768-2.png
ORGANIZER;CN="Earlybirds Club":MAILTO:info@early-birds.club
END:VEVENT
BEGIN:VEVENT
DTSTART;TZID=America/New_York:20260710T180000
DTEND;TZID=America/New_York:20260710T220000
DTSTAMP:20260421T081245
CREATED:20260212T010500Z
LAST-MODIFIED:20260212T010500Z
UID:6639-1783706400-1783720800@early-birds.club
SUMMARY:Earlybirds Club - Providence
DESCRIPTION:
URL:https://early-birds.club/event/earlybirds-club-providence-4/
LOCATION:The Met\, 1005 Main St\, Pawtucket\, RI\, 02860\, United States
CATEGORIES:Providence
ORGANIZER;CN="Earlybirds Club":MAILTO:info@early-birds.club
END:VEVENT
BEGIN:VEVENT
DTSTART;TZID=America/New_York:20260711T180000
DTEND;TZID=America/New_York:20260711T220000
DTSTAMP:20260421T081246
CREATED:20251028T174322Z
LAST-MODIFIED:20251028T174322Z
UID:5995-1783792800-1783807200@early-birds.club
SUMMARY:Earlybirds Club - Boston
DESCRIPTION:
URL:https://early-birds.club/event/earlybirds-club-boston-6/
LOCATION:WA
CATEGORIES:Boston
ORGANIZER;CN="Earlybirds Club":MAILTO:info@early-birds.club
END:VEVENT
BEGIN:VEVENT
DTSTART;TZID=America/Los_Angeles:20260711T180000
DTEND;TZID=America/Los_Angeles:20260711T220000
DTSTAMP:20260421T081246
CREATED:20251218T012133Z
LAST-MODIFIED:20251218T012133Z
UID:6444-1783792800-1783807200@early-birds.club
SUMMARY:Earlybirds Club - Portland
DESCRIPTION:
URL:https://early-birds.club/event/earlybirds-club-portland-4/
LOCATION:Wonder Ballroom\, 128 NE Russell St\, Portland\, OR\, 97212\, United States
CATEGORIES:Portland
ORGANIZER;CN="Earlybirds Club":MAILTO:info@early-birds.club
END:VEVENT
BEGIN:VEVENT
DTSTART;TZID=America/Phoenix:20260711T180000
DTEND;TZID=America/Phoenix:20260711T220000
DTSTAMP:20260421T081246
CREATED:20260212T001353Z
LAST-MODIFIED:20260212T001353Z
UID:6633-1783792800-1783807200@early-birds.club
SUMMARY:Earlybirds Club - Phoenix
DESCRIPTION:
URL:https://early-birds.club/event/earlybirds-club-phoenix-4/
LOCATION:Marquee Theatre\, 730 N Mill Ave\, Tempe\, AZ\, 85288\, United States
CATEGORIES:Phoenix
ORGANIZER;CN="Earlybirds Club":MAILTO:info@early-birds.club
END:VEVENT
BEGIN:VEVENT
DTSTART;TZID=America/Los_Angeles:20260711T180000
DTEND;TZID=America/Los_Angeles:20260711T220000
DTSTAMP:20260421T081246
CREATED:20260213T195110Z
LAST-MODIFIED:20260213T195110Z
UID:6647-1783792800-1783807200@early-birds.club
SUMMARY:Earlybirds Club - San Francisco
DESCRIPTION:
URL:https://early-birds.club/event/earlybirds-club-san-francisco-3/
LOCATION:August Hall\, 420 Mason St\, San Francisco\, 94102\, United States
CATEGORIES:San Francisco
ORGANIZER;CN="Earlybirds Club":MAILTO:info@early-birds.club
END:VEVENT
BEGIN:VEVENT
DTSTART;TZID=America/New_York:20260711T180000
DTEND;TZID=America/New_York:20260711T220000
DTSTAMP:20260421T081246
CREATED:20260223T142231Z
LAST-MODIFIED:20260304T190003Z
UID:6701-1783792800-1783807200@early-birds.club
SUMMARY:Earlybirds Club - New Jersey
DESCRIPTION:
URL:https://early-birds.club/event/earlybirds-club-new-jersey-3/
LOCATION:White Eagle Hall\, 337 Newark Ave\, Jersey City\, NJ\, 07302\, United States
CATEGORIES:New Jersey
ORGANIZER;CN="Earlybirds Club":MAILTO:info@early-birds.club
END:VEVENT
BEGIN:VEVENT
DTSTART;TZID=America/Chicago:20260711T180000
DTEND;TZID=America/Chicago:20260711T220000
DTSTAMP:20260421T081246
CREATED:20260313T023555Z
LAST-MODIFIED:20260313T023614Z
UID:6826-1783792800-1783807200@early-birds.club
SUMMARY:Earlybirds Club - Houston
DESCRIPTION:
URL:https://early-birds.club/event/earlybirds-club-houston-2/
LOCATION:White Oak Music Hall\, 2915 N Main St\, Houston\, TX\, 77009\, United States
CATEGORIES:Houston
ORGANIZER;CN="Earlybirds Club":MAILTO:info@early-birds.club
END:VEVENT
BEGIN:VEVENT
DTSTART;TZID=America/New_York:20260717T180000
DTEND;TZID=America/New_York:20260717T220000
DTSTAMP:20260421T081246
CREATED:20260206T173137Z
LAST-MODIFIED:20260206T173137Z
UID:6612-1784311200-1784325600@early-birds.club
SUMMARY:Earlybirds Club - Baltimore
DESCRIPTION:
URL:https://early-birds.club/event/earlybirds-club-baltimore-6/
LOCATION:The Recher\, 512 York Rd\, Towson\, MD\, 21204\, United States
CATEGORIES:Baltimore
ORGANIZER;CN="Earlybirds Club":MAILTO:info@early-birds.club
END:VEVENT
BEGIN:VEVENT
DTSTART;TZID=America/Los_Angeles:20260717T180000
DTEND;TZID=America/Los_Angeles:20260717T220000
DTSTAMP:20260421T081246
CREATED:20260326T111119Z
LAST-MODIFIED:20260326T111535Z
UID:6919-1784311200-1784325600@early-birds.club
SUMMARY:Earlybirds Club - Sacramento
DESCRIPTION:
URL:https://early-birds.club/event/earlybirds-club-sacramento-2/
LOCATION:Ace of Spades\, 1417 R St\, Sacramento\, 95811\, United States
CATEGORIES:Sacramento
ORGANIZER;CN="Earlybirds Club":MAILTO:info@early-birds.club
END:VEVENT
BEGIN:VEVENT
DTSTART;TZID=America/Chicago:20260718T180000
DTEND;TZID=America/Chicago:20260718T220000
DTSTAMP:20260421T081246
CREATED:20251218T014649Z
LAST-MODIFIED:20251218T014649Z
UID:6461-1784397600-1784412000@early-birds.club
SUMMARY:Earlybirds Club - Chicago
DESCRIPTION:
URL:https://early-birds.club/event/earlybirds-club-chicago-8/
LOCATION:Thalia Hall\, 1807 S Allport St\, Chicago\, IL\, 60608\, United States
CATEGORIES:Chicago
ORGANIZER;CN="Earlybirds Club":MAILTO:info@early-birds.club
END:VEVENT
BEGIN:VEVENT
DTSTART;TZID=America/New_York:20260718T180000
DTEND;TZID=America/New_York:20260718T220000
DTSTAMP:20260421T081246
CREATED:20260228T205940Z
LAST-MODIFIED:20260228T205940Z
UID:6721-1784397600-1784412000@early-birds.club
SUMMARY:Earlybirds Club - Boston
DESCRIPTION:
URL:https://early-birds.club/event/earlybirds-club-boston-13/
LOCATION:Royale\, 279 Tremont St\, Boston\, MA\, 02116\, United States
CATEGORIES:Boston
ORGANIZER;CN="Earlybirds Club":MAILTO:info@early-birds.club
END:VEVENT
BEGIN:VEVENT
DTSTART;TZID=America/Los_Angeles:20260724T180000
DTEND;TZID=America/Los_Angeles:20260724T220000
DTSTAMP:20260421T081246
CREATED:20251028T174449Z
LAST-MODIFIED:20251028T174449Z
UID:5997-1784916000-1784930400@early-birds.club
SUMMARY:Earlybirds Club - Seattle
DESCRIPTION:
URL:https://early-birds.club/event/earlybirds-club-seattle/
LOCATION:WA
CATEGORIES:Seattle
ORGANIZER;CN="Earlybirds Club":MAILTO:info@early-birds.club
END:VEVENT
BEGIN:VEVENT
DTSTART;TZID=America/New_York:20260724T180000
DTEND;TZID=America/New_York:20260724T220000
DTSTAMP:20260421T081246
CREATED:20260305T204115Z
LAST-MODIFIED:20260305T204115Z
UID:6782-1784916000-1784930400@early-birds.club
SUMMARY:Earlybirds Club - Charlotte
DESCRIPTION:
URL:https://early-birds.club/event/earlybirds-club-charlotte-2/
LOCATION:Amos’ Southend\, 1423 S Tryon St\, Charlotte\, NC\, 28203\, United States
CATEGORIES:Charlotte
ORGANIZER;CN="Earlybirds Club":MAILTO:info@early-birds.club
END:VEVENT
BEGIN:VEVENT
DTSTART;TZID=America/New_York:20260725T180000
DTEND;TZID=America/New_York:20260725T220000
DTSTAMP:20260421T081246
CREATED:20260305T203608Z
LAST-MODIFIED:20260305T203608Z
UID:6780-1785002400-1785016800@early-birds.club
SUMMARY:Earlybirds Club - Raleigh
DESCRIPTION:
URL:https://early-birds.club/event/earlybirds-club-raleigh-2/
LOCATION:Lincoln Theatre\, 126 E Cabarrus St\, Raleigh\, NC\, 27601\, United States
CATEGORIES:Raleigh-Durham
ATTACH;FMTTYPE=image/png:https://early-birds.club/wp-content/uploads/2025/10/Raleigh_03_21_2026_768x768.png
ORGANIZER;CN="Earlybirds Club":MAILTO:info@early-birds.club
END:VEVENT
BEGIN:VEVENT
DTSTART;TZID=America/Chicago:20260725T180000
DTEND;TZID=America/Chicago:20260725T220000
DTSTAMP:20260421T081246
CREATED:20260403T125028Z
LAST-MODIFIED:20260403T125028Z
UID:6995-1785002400-1785016800@early-birds.club
SUMMARY:Earlybirds Club - Minneapolis
DESCRIPTION:
URL:https://early-birds.club/event/earlybirds-club-minneapolis-5/
LOCATION:First Avenue\, 701 N First Ave\, Minneapolis\, MN\, 55403\, United States
CATEGORIES:Minneapolis
ORGANIZER;CN="Earlybirds Club":MAILTO:info@early-birds.club
END:VEVENT
BEGIN:VEVENT
DTSTART;TZID=America/New_York:20260731T180000
DTEND;TZID=America/New_York:20260731T220000
DTSTAMP:20260421T081246
CREATED:20251028T193855Z
LAST-MODIFIED:20251028T193855Z
UID:6019-1785520800-1785535200@early-birds.club
SUMMARY:Earlybirds Club - DC
DESCRIPTION:
URL:https://early-birds.club/event/earlybirds-club-dc-6/
LOCATION:WA
CATEGORIES:DC
ORGANIZER;CN="Earlybirds Club":MAILTO:info@early-birds.club
END:VEVENT
BEGIN:VEVENT
DTSTART;TZID=America/New_York:20260731T180000
DTEND;TZID=America/New_York:20260731T220000
DTSTAMP:20260421T081246
CREATED:20260211T235854Z
LAST-MODIFIED:20260211T235854Z
UID:6629-1785520800-1785535200@early-birds.club
SUMMARY:Earlybirds Club - Philadelphia
DESCRIPTION:
URL:https://early-birds.club/event/earlybirds-club-philadelphia-6/
LOCATION:Brooklyn Bowl\, 1009 Canal St\, Philadelphia\, PA\, 19123\, United States
CATEGORIES:Philadelphia
ORGANIZER;CN="Earlybirds Club":MAILTO:info@early-birds.club
END:VEVENT
BEGIN:VEVENT
DTSTART;TZID=America/New_York:20260731T180000
DTEND;TZID=America/New_York:20260731T220000
DTSTAMP:20260421T081246
CREATED:20260416T003925Z
LAST-MODIFIED:20260416T003925Z
UID:7104-1785520800-1785535200@early-birds.club
SUMMARY:Earlybirds Club - Cincinnati
DESCRIPTION:
URL:https://early-birds.club/event/earlybirds-club-cincinnati-2/
LOCATION:Ludlow Garage\, 342 Ludlow Ave\, Cincinnati\, OH\, 45220\, United States
CATEGORIES:Cincinnati
ORGANIZER;CN="Earlybirds Club":MAILTO:info@early-birds.club
END:VEVENT
BEGIN:VEVENT
DTSTART;TZID=America/New_York:20260801T180000
DTEND;TZID=America/New_York:20260801T220000
DTSTAMP:20260421T081246
CREATED:20251028T174600Z
LAST-MODIFIED:20251028T174600Z
UID:5999-1785607200-1785621600@early-birds.club
SUMMARY:Earlybirds Club - Boston
DESCRIPTION:
URL:https://early-birds.club/event/earlybirds-club-boston-7/
LOCATION:WA
CATEGORIES:Boston
ORGANIZER;CN="Earlybirds Club":MAILTO:info@early-birds.club
END:VEVENT
BEGIN:VEVENT
DTSTART;TZID=America/Chicago:20260808T180000
DTEND;TZID=America/Chicago:20260808T220000
DTSTAMP:20260421T081246
CREATED:20260116T043546Z
LAST-MODIFIED:20260116T043546Z
UID:6531-1786212000-1786226400@early-birds.club
SUMMARY:Earlybirds Club - Chicago
DESCRIPTION:
URL:https://early-birds.club/event/earlybirds-club-chicago-10/
LOCATION:Beat Kitchen\, 2100 W Belmont Ave\, Chicago\, IL\, 60618\, United States
CATEGORIES:Chicago
ORGANIZER;CN="Earlybirds Club":MAILTO:info@early-birds.club
END:VEVENT
BEGIN:VEVENT
DTSTART;TZID=America/Los_Angeles:20260814T180000
DTEND;TZID=America/Los_Angeles:20260814T220000
DTSTAMP:20260421T081246
CREATED:20260220T020550Z
LAST-MODIFIED:20260220T020550Z
UID:6688-1786730400-1786744800@early-birds.club
SUMMARY:Earlybirds Club - San Diego
DESCRIPTION:
URL:https://early-birds.club/event/earlybirds-club-san-diego-4/
LOCATION:Music Box\, 1337 India St\, San Diego\, CA\, 92101\, United States
CATEGORIES:San Diego
ORGANIZER;CN="Earlybirds Club":MAILTO:info@early-birds.club
END:VEVENT
BEGIN:VEVENT
DTSTART;TZID=America/Denver:20260821T180000
DTEND;TZID=America/Denver:20260821T220000
DTSTAMP:20260421T081246
CREATED:20260323T231055Z
LAST-MODIFIED:20260323T231055Z
UID:6899-1787335200-1787349600@early-birds.club
SUMMARY:Earlybirds Club - Boulder
DESCRIPTION:
URL:https://early-birds.club/event/earlybirds-club-boulder-3/
LOCATION:Boulder Theater\, 2032 14th St\, Boulder\, 80302\, United States
CATEGORIES:Denver
ORGANIZER;CN="Earlybirds Club":MAILTO:info@early-birds.club
END:VEVENT
BEGIN:VEVENT
DTSTART;TZID=America/New_York:20260828T180000
DTEND;TZID=America/New_York:20260828T220000
DTSTAMP:20260421T081246
CREATED:20251028T194023Z
LAST-MODIFIED:20251028T194023Z
UID:6021-1787940000-1787954400@early-birds.club
SUMMARY:Earlybirds Club - DC
DESCRIPTION:
URL:https://early-birds.club/event/earlybirds-club-dc-7/
LOCATION:WA
CATEGORIES:DC
ORGANIZER;CN="Earlybirds Club":MAILTO:info@early-birds.club
END:VEVENT
BEGIN:VEVENT
DTSTART;TZID=America/Chicago:20260828T180000
DTEND;TZID=America/Chicago:20260828T220000
DTSTAMP:20260421T081246
CREATED:20260220T171421Z
LAST-MODIFIED:20260220T171421Z
UID:6699-1787940000-1787954400@early-birds.club
SUMMARY:Earlybirds Club - Chicago
DESCRIPTION:
URL:https://early-birds.club/event/earlybirds-club-chicago-13/
LOCATION:Thalia Hall\, 1807 S Allport St\, Chicago\, IL\, 60608\, United States
CATEGORIES:Chicago
ORGANIZER;CN="Earlybirds Club":MAILTO:info@early-birds.club
END:VEVENT
BEGIN:VEVENT
DTSTART;TZID=America/New_York:20260829T180000
DTEND;TZID=America/New_York:20260829T220000
DTSTAMP:20260421T081246
CREATED:20251218T011421Z
LAST-MODIFIED:20251218T011421Z
UID:6435-1788026400-1788040800@early-birds.club
SUMMARY:Earlybirds Club - New York City
DESCRIPTION:
URL:https://early-birds.club/event/earlybirds-club-new-york-city-4/
LOCATION:Webster Hall\, 125 E 11th St\, New York\, NY\, 10003\, United States
CATEGORIES:New York
ORGANIZER;CN="Earlybirds Club":MAILTO:info@early-birds.club
END:VEVENT
END:VCALENDAR