BEGIN:VCALENDAR
VERSION:2.0
PRODID:-//Earlybirds Club - ECPv6.15.18//NONSGML v1.0//EN
CALSCALE:GREGORIAN
METHOD:PUBLISH
X-ORIGINAL-URL:https://early-birds.club
X-WR-CALDESC:Events for Earlybirds Club
REFRESH-INTERVAL;VALUE=DURATION:PT1H
X-Robots-Tag:noindex
X-PUBLISHED-TTL:PT1H
BEGIN:VTIMEZONE
TZID:America/New_York
BEGIN:DAYLIGHT
TZOFFSETFROM:-0500
TZOFFSETTO:-0400
TZNAME:EDT
DTSTART:20250309T070000
END:DAYLIGHT
BEGIN:STANDARD
TZOFFSETFROM:-0400
TZOFFSETTO:-0500
TZNAME:EST
DTSTART:20251102T060000
END:STANDARD
BEGIN:DAYLIGHT
TZOFFSETFROM:-0500
TZOFFSETTO:-0400
TZNAME:EDT
DTSTART:20260308T070000
END:DAYLIGHT
BEGIN:STANDARD
TZOFFSETFROM:-0400
TZOFFSETTO:-0500
TZNAME:EST
DTSTART:20261101T060000
END:STANDARD
BEGIN:DAYLIGHT
TZOFFSETFROM:-0500
TZOFFSETTO:-0400
TZNAME:EDT
DTSTART:20270314T070000
END:DAYLIGHT
BEGIN:STANDARD
TZOFFSETFROM:-0400
TZOFFSETTO:-0500
TZNAME:EST
DTSTART:20271107T060000
END:STANDARD
END:VTIMEZONE
BEGIN:VTIMEZONE
TZID:America/Chicago
BEGIN:DAYLIGHT
TZOFFSETFROM:-0600
TZOFFSETTO:-0500
TZNAME:CDT
DTSTART:20240310T080000
END:DAYLIGHT
BEGIN:STANDARD
TZOFFSETFROM:-0500
TZOFFSETTO:-0600
TZNAME:CST
DTSTART:20241103T070000
END:STANDARD
BEGIN:DAYLIGHT
TZOFFSETFROM:-0600
TZOFFSETTO:-0500
TZNAME:CDT
DTSTART:20250309T080000
END:DAYLIGHT
BEGIN:STANDARD
TZOFFSETFROM:-0500
TZOFFSETTO:-0600
TZNAME:CST
DTSTART:20251102T070000
END:STANDARD
BEGIN:DAYLIGHT
TZOFFSETFROM:-0600
TZOFFSETTO:-0500
TZNAME:CDT
DTSTART:20260308T080000
END:DAYLIGHT
BEGIN:STANDARD
TZOFFSETFROM:-0500
TZOFFSETTO:-0600
TZNAME:CST
DTSTART:20261101T070000
END:STANDARD
BEGIN:DAYLIGHT
TZOFFSETFROM:-0600
TZOFFSETTO:-0500
TZNAME:CDT
DTSTART:20270314T080000
END:DAYLIGHT
BEGIN:STANDARD
TZOFFSETFROM:-0500
TZOFFSETTO:-0600
TZNAME:CST
DTSTART:20271107T070000
END:STANDARD
END:VTIMEZONE
BEGIN:VTIMEZONE
TZID:America/Los_Angeles
BEGIN:DAYLIGHT
TZOFFSETFROM:-0800
TZOFFSETTO:-0700
TZNAME:PDT
DTSTART:20250309T100000
END:DAYLIGHT
BEGIN:STANDARD
TZOFFSETFROM:-0700
TZOFFSETTO:-0800
TZNAME:PST
DTSTART:20251102T090000
END:STANDARD
BEGIN:DAYLIGHT
TZOFFSETFROM:-0800
TZOFFSETTO:-0700
TZNAME:PDT
DTSTART:20260308T100000
END:DAYLIGHT
BEGIN:STANDARD
TZOFFSETFROM:-0700
TZOFFSETTO:-0800
TZNAME:PST
DTSTART:20261101T090000
END:STANDARD
BEGIN:DAYLIGHT
TZOFFSETFROM:-0800
TZOFFSETTO:-0700
TZNAME:PDT
DTSTART:20270314T100000
END:DAYLIGHT
BEGIN:STANDARD
TZOFFSETFROM:-0700
TZOFFSETTO:-0800
TZNAME:PST
DTSTART:20271107T090000
END:STANDARD
END:VTIMEZONE
BEGIN:VTIMEZONE
TZID:America/Denver
BEGIN:DAYLIGHT
TZOFFSETFROM:-0700
TZOFFSETTO:-0600
TZNAME:MDT
DTSTART:20250309T090000
END:DAYLIGHT
BEGIN:STANDARD
TZOFFSETFROM:-0600
TZOFFSETTO:-0700
TZNAME:MST
DTSTART:20251102T080000
END:STANDARD
BEGIN:DAYLIGHT
TZOFFSETFROM:-0700
TZOFFSETTO:-0600
TZNAME:MDT
DTSTART:20260308T090000
END:DAYLIGHT
BEGIN:STANDARD
TZOFFSETFROM:-0600
TZOFFSETTO:-0700
TZNAME:MST
DTSTART:20261101T080000
END:STANDARD
BEGIN:DAYLIGHT
TZOFFSETFROM:-0700
TZOFFSETTO:-0600
TZNAME:MDT
DTSTART:20270314T090000
END:DAYLIGHT
BEGIN:STANDARD
TZOFFSETFROM:-0600
TZOFFSETTO:-0700
TZNAME:MST
DTSTART:20271107T080000
END:STANDARD
END:VTIMEZONE
BEGIN:VEVENT
DTSTART;TZID=America/New_York:20260206T180000
DTEND;TZID=America/New_York:20260206T220000
DTSTAMP:20260421T080946
CREATED:20251014T140041Z
LAST-MODIFIED:20260121T174251Z
UID:5831-1770400800-1770415200@early-birds.club
SUMMARY:Earlybirds Club - Orlando
DESCRIPTION:
URL:https://early-birds.club/event/earlybirds-club-orlando/
LOCATION:The Beacham\, 46 N Orange Ave\, Orlando\, 32801\, United States
CATEGORIES:Orlando
ATTACH;FMTTYPE=image/png:https://early-birds.club/wp-content/uploads/2025/10/Copy-of-Orlando-768-x-768-1.png
ORGANIZER;CN="Earlybirds Club":MAILTO:info@early-birds.club
END:VEVENT
BEGIN:VEVENT
DTSTART;TZID=America/Chicago:20260131T180000
DTEND;TZID=America/Chicago:20260131T220000
DTSTAMP:20260421T080946
CREATED:20251028T143814Z
LAST-MODIFIED:20251105T211031Z
UID:5959-1769882400-1769896800@early-birds.club
SUMMARY:Earlybirds Club - Philadelphia
DESCRIPTION:
URL:https://early-birds.club/event/earlybirds-club-philadelphia-2/
LOCATION:Brooklyn Bowl\, 1009 Canal St\, Philadelphia\, PA\, 19123\, United States
CATEGORIES:Philadelphia
ATTACH;FMTTYPE=image/png:https://early-birds.club/wp-content/uploads/2025/10/Philly_01_31_2026-1.png
ORGANIZER;CN="Earlybirds Club":MAILTO:info@early-birds.club
END:VEVENT
BEGIN:VEVENT
DTSTART;TZID=America/Los_Angeles:20260131T180000
DTEND;TZID=America/Los_Angeles:20260131T220000
DTSTAMP:20260421T080946
CREATED:20251021T170025Z
LAST-MODIFIED:20251204T174202Z
UID:5887-1769882400-1769896800@early-birds.club
SUMMARY:Earlybirds Club - San Diego
DESCRIPTION:
URL:https://early-birds.club/event/earlybirds-club-san-diego-2/
LOCATION:Music Box\, 1337 India St\, San Diego\, CA\, 92101\, United States
CATEGORIES:San Diego
ATTACH;FMTTYPE=image/png:https://early-birds.club/wp-content/uploads/2025/10/San-Diego_01_31_2026_768-x-768-px.png
ORGANIZER;CN="Earlybirds Club":MAILTO:info@early-birds.club
END:VEVENT
BEGIN:VEVENT
DTSTART;TZID=America/Chicago:20260131T180000
DTEND;TZID=America/Chicago:20260131T220000
DTSTAMP:20260421T080946
CREATED:20251007T140012Z
LAST-MODIFIED:20251119T152140Z
UID:5784-1769882400-1769896800@early-birds.club
SUMMARY:Earlybirds Club - Cleveland
DESCRIPTION:
URL:https://early-birds.club/event/earlybirds-club-cleveland/
LOCATION:Beachland Ballroom\, 15711 Waterloo Rd\, Cleveland\, OH\, 44110\, United States
CATEGORIES:Cleveland
ATTACH;FMTTYPE=image/png:https://early-birds.club/wp-content/uploads/2025/10/Cleveland-768-x-768-3.png
ORGANIZER;CN="Earlybirds Club":MAILTO:info@early-birds.club
END:VEVENT
BEGIN:VEVENT
DTSTART;TZID=America/New_York:20260130T180000
DTEND;TZID=America/New_York:20260130T220000
DTSTAMP:20260421T080946
CREATED:20250930T140057Z
LAST-MODIFIED:20251104T143842Z
UID:5725-1769796000-1769810400@early-birds.club
SUMMARY:Earlybirds Club - Detroit
DESCRIPTION:
URL:https://early-birds.club/event/earlybirds-club-detroit/
LOCATION:The Magic Bag\, 22920 Woodward Ave\, Ferndale\, MI\, 48220\, United States
CATEGORIES:Detroit
ATTACH;FMTTYPE=image/png:https://early-birds.club/wp-content/uploads/2025/09/Detroit-768-x-768-2.png
ORGANIZER;CN="Earlybirds Club":MAILTO:info@early-birds.club
END:VEVENT
BEGIN:VEVENT
DTSTART;TZID=America/Denver:20260130T180000
DTEND;TZID=America/Denver:20260130T220000
DTSTAMP:20260421T080946
CREATED:20250923T160047Z
LAST-MODIFIED:20251103T205924Z
UID:5679-1769796000-1769810400@early-birds.club
SUMMARY:Earlybirds Club - Boulder
DESCRIPTION:
URL:https://early-birds.club/event/earlybirds-club-boulder/
LOCATION:Fox Theatre\, 1135 13th St\, Boulder\, CO\, 80302\, United States
CATEGORIES:Denver
ATTACH;FMTTYPE=image/png:https://early-birds.club/wp-content/uploads/2025/09/Copy-of-Boulder-768-x-768.png
ORGANIZER;CN="Earlybirds Club":MAILTO:info@early-birds.club
END:VEVENT
BEGIN:VEVENT
DTSTART;TZID=America/New_York:20260124T180000
DTEND;TZID=America/New_York:20260124T220000
DTSTAMP:20260421T080946
CREATED:20251003T140043Z
LAST-MODIFIED:20251005T230040Z
UID:5769-1769277600-1769292000@early-birds.club
SUMMARY:Earlybirds Club - Brooklyn
DESCRIPTION:
URL:https://early-birds.club/event/earlybirds-club-brooklyn-3/
LOCATION:Music Hall of Williamsburg\, 66 N 6th St\, Brooklyn\, NY\, 11211\, United States
CATEGORIES:New York
ATTACH;FMTTYPE=image/jpeg:https://early-birds.club/wp-content/uploads/2025/10/Brooklyn_1_24_2026_-768-x-768.jpg
ORGANIZER;CN="Earlybirds Club":MAILTO:info@early-birds.club
END:VEVENT
BEGIN:VEVENT
DTSTART;TZID=America/Los_Angeles:20260123T180000
DTEND;TZID=America/Los_Angeles:20260123T220000
DTSTAMP:20260421T080946
CREATED:20251111T180039Z
LAST-MODIFIED:20251125T204048Z
UID:6164-1769191200-1769205600@early-birds.club
SUMMARY:Earlybirds Club - San Francisco
DESCRIPTION:
URL:https://early-birds.club/event/earlybirds-club-san-francisco-2/
LOCATION:The Independent\, 628 Divisadero St\, San Francisco\, CA\, 94117\, United States
CATEGORIES:Bay Area,San Francisco
ATTACH;FMTTYPE=image/png:https://early-birds.club/wp-content/uploads/2025/11/San-Francisco_01.23.2026_-768-x-768.png
ORGANIZER;CN="Earlybirds Club":MAILTO:info@early-birds.club
END:VEVENT
BEGIN:VEVENT
DTSTART;TZID=America/Chicago:20260123T180000
DTEND;TZID=America/Chicago:20260123T220000
DTSTAMP:20260421T080946
CREATED:20251007T150027Z
LAST-MODIFIED:20251021T183746Z
UID:5778-1769191200-1769205600@early-birds.club
SUMMARY:Earlybirds Club - Austin
DESCRIPTION:
URL:https://early-birds.club/event/earlybirds-club-austin-2/
LOCATION:ACL Live at 3Ten\, 310 W Willie Nelson Blvd\, Austin\, TX\, 78701\, United States
CATEGORIES:Austin
ATTACH;FMTTYPE=image/png:https://early-birds.club/wp-content/uploads/2025/10/Austin_1_23_2026_-768-x-768.png
ORGANIZER;CN="Earlybirds Club":MAILTO:info@early-birds.club
END:VEVENT
BEGIN:VEVENT
DTSTART;TZID=America/New_York:20260123T180000
DTEND;TZID=America/New_York:20260123T220000
DTSTAMP:20260421T080946
CREATED:20251007T140041Z
LAST-MODIFIED:20251010T180410Z
UID:5791-1769191200-1769205600@early-birds.club
SUMMARY:Earlybirds Club - Jersey City
DESCRIPTION:
URL:https://early-birds.club/event/earlybirds-club-jersey-city-2/
LOCATION:White Eagle Hall\, 337 Newark Ave\, Jersey City\, NJ\, 07302\, United States
CATEGORIES:New Jersey
ATTACH;FMTTYPE=image/png:https://early-birds.club/wp-content/uploads/2025/10/Jersey-City_1_23_2026_768x768.png
ORGANIZER;CN="Earlybirds Club":MAILTO:info@early-birds.club
END:VEVENT
BEGIN:VEVENT
DTSTART;TZID=America/New_York:20260123T180000
DTEND;TZID=America/New_York:20260123T220000
DTSTAMP:20260421T080946
CREATED:20250930T140020Z
LAST-MODIFIED:20251003T141722Z
UID:5721-1769191200-1769205600@early-birds.club
SUMMARY:Earlybirds Club - Brooklyn
DESCRIPTION:
URL:https://early-birds.club/event/earlybirds-club-brooklyn-2/
LOCATION:Music Hall of Williamsburg\, 66 N 6th St\, Brooklyn\, NY\, 11211\, United States
CATEGORIES:New York
ATTACH;FMTTYPE=image/png:https://early-birds.club/wp-content/uploads/2025/09/Brooklyn_1_23_2026_-768-x-768.png
ORGANIZER;CN="Earlybirds Club":MAILTO:info@early-birds.club
END:VEVENT
BEGIN:VEVENT
DTSTART;TZID=America/New_York:20260110T180000
DTEND;TZID=America/New_York:20260110T220000
DTSTAMP:20260421T080946
CREATED:20250930T140023Z
LAST-MODIFIED:20251108T224049Z
UID:5718-1768068000-1768082400@early-birds.club
SUMMARY:80s Party - Pawtucket\, RI
DESCRIPTION:
URL:https://early-birds.club/event/80s-party-pawtucket-ri/
LOCATION:The Met\, 1005 Main St\, Pawtucket\, RI\, 02860\, United States
CATEGORIES:Providence
ATTACH;FMTTYPE=image/png:https://early-birds.club/wp-content/uploads/2025/09/Pawtucket_80s_-768-x-768-4.png
ORGANIZER;CN="Earlybirds Club":MAILTO:info@early-birds.club
END:VEVENT
BEGIN:VEVENT
DTSTART;TZID=America/New_York:20260110T180000
DTEND;TZID=America/New_York:20260110T220000
DTSTAMP:20260421T080946
CREATED:20250904T165039Z
LAST-MODIFIED:20250906T195037Z
UID:5630-1768068000-1768082400@early-birds.club
SUMMARY:Earlybirds Club - DC
DESCRIPTION:
URL:https://early-birds.club/event/earlybirds-club-dc-2/
LOCATION:9:30 Club\, 815 V St NW\, Washington\, DC\, DC\, 20001\, United States
CATEGORIES:DC
ATTACH;FMTTYPE=image/png:https://early-birds.club/wp-content/uploads/2025/09/DC_01_10_2026_768x768px.png
ORGANIZER;CN="Earlybirds Club":MAILTO:info@early-birds.club
END:VEVENT
BEGIN:VEVENT
DTSTART;TZID=America/Chicago:20260109T180000
DTEND;TZID=America/Chicago:20260109T220000
DTSTAMP:20260421T080946
CREATED:20251007T140023Z
LAST-MODIFIED:20251016T170324Z
UID:5781-1767981600-1767996000@early-birds.club
SUMMARY:Earlybirds Club - DC
DESCRIPTION:
URL:https://early-birds.club/event/earlybirds-club-dc-3/
LOCATION:9:30 Club\, 815 V St NW\, Washington\, DC\, DC\, 20001\, United States
CATEGORIES:DC
ATTACH;FMTTYPE=image/png:https://early-birds.club/wp-content/uploads/2025/10/DC_01.09.2026_-768-x-768.png
ORGANIZER;CN="Earlybirds Club":MAILTO:info@early-birds.club
END:VEVENT
BEGIN:VEVENT
DTSTART;TZID=America/New_York:20260109T180000
DTEND;TZID=America/New_York:20260109T220000
DTSTAMP:20260421T080946
CREATED:20250923T140041Z
LAST-MODIFIED:20251003T142000Z
UID:5675-1767981600-1767996000@early-birds.club
SUMMARY:Earlybirds Club - Baltimore
DESCRIPTION:
URL:https://early-birds.club/event/earlybirds-club-baltimore/
LOCATION:The Recher\, 512 York Rd\, Towson\, MD\, 21204\, United States
CATEGORIES:Baltimore
ATTACH;FMTTYPE=image/png:https://early-birds.club/wp-content/uploads/2025/09/Baltimore-768-x-768.png
ORGANIZER;CN="Earlybirds Club":MAILTO:info@early-birds.club
END:VEVENT
BEGIN:VEVENT
DTSTART;TZID=America/Chicago:20260109T180000
DTEND;TZID=America/Chicago:20260109T220000
DTSTAMP:20260421T080946
CREATED:20250916T152006Z
LAST-MODIFIED:20251030T155846Z
UID:5663-1767981600-1767996000@early-birds.club
SUMMARY:80s Night - Boston
DESCRIPTION:
URL:https://early-birds.club/event/80s-night-boston/
LOCATION:The Sinclair\, 52 Church St\, Cambridge\, MA\, 02138\, United States
CATEGORIES:Boston
ATTACH;FMTTYPE=image/png:https://early-birds.club/wp-content/uploads/2025/09/Boston-768-x-768-Copy.png
ORGANIZER;CN="Earlybirds Club":MAILTO:info@early-birds.club
END:VEVENT
BEGIN:VEVENT
DTSTART;TZID=America/Chicago:20251213T180000
DTEND;TZID=America/Chicago:20251213T220000
DTSTAMP:20260421T080946
CREATED:20250810T212725Z
LAST-MODIFIED:20250923T035955Z
UID:5576-1765648800-1765663200@early-birds.club
SUMMARY:Earlybirds Club - Portland
DESCRIPTION:
URL:https://early-birds.club/event/earlybirds-club-portland/
LOCATION:Wonder Ballroom\, 128 NE Russell St\, Portland\, OR\, 97212\, United States
CATEGORIES:Portland
ATTACH;FMTTYPE=image/png:https://early-birds.club/wp-content/uploads/2025/08/Portland-Marge-_768-x-768-px-1.png
ORGANIZER;CN="Earlybirds Club":MAILTO:info@early-birds.club
END:VEVENT
BEGIN:VEVENT
DTSTART;TZID=America/Chicago:20251213T180000
DTEND;TZID=America/Chicago:20251213T220000
DTSTAMP:20260421T080946
CREATED:20250423T020307Z
LAST-MODIFIED:20251028T172017Z
UID:4141-1765648800-1765663200@early-birds.club
SUMMARY:Earlybirds Club - Holiday Party
DESCRIPTION:
URL:https://early-birds.club/event/earlybirds-club-holiday-party/
LOCATION:Beat Kitchen\, 2100 W Belmont Ave\, Chicago\, IL\, 60618\, United States
CATEGORIES:Chicago
ATTACH;FMTTYPE=image/jpeg:https://early-birds.club/wp-content/uploads/2025/04/HolidayParty2025_-768-x-768.jpg
END:VEVENT
BEGIN:VEVENT
DTSTART;TZID=America/Chicago:20251212T180000
DTEND;TZID=America/Chicago:20251212T220000
DTSTAMP:20260421T080946
CREATED:20250810T213157Z
LAST-MODIFIED:20250905T122447Z
UID:5581-1765562400-1765576800@early-birds.club
SUMMARY:Earlybirds Club - Seattle
DESCRIPTION:
URL:https://early-birds.club/event/earlybirds-club-seattle-3/
LOCATION:The Showbox\, 1426 1st Ave\, Seattle\, WA\, 98101\, United States
CATEGORIES:Seattle
ATTACH;FMTTYPE=image/png:https://early-birds.club/wp-content/uploads/2025/08/SEATTLE-1.png
ORGANIZER;CN="Earlybirds Club":MAILTO:info@early-birds.club
END:VEVENT
BEGIN:VEVENT
DTSTART;TZID=America/Chicago:20251205T180000
DTEND;TZID=America/Chicago:20251205T220000
DTSTAMP:20260421T080946
CREATED:20250909T211526Z
LAST-MODIFIED:20250922T190534Z
UID:5643-1764957600-1764972000@early-birds.club
SUMMARY:Earlybirds Club - Minneapolis
DESCRIPTION:
URL:https://early-birds.club/event/earlybirds-club-minneapolis/
LOCATION:Fine Line\, 318 N 1st Ave\, Minneapolis\, MN\, 55401\, United States
CATEGORIES:Minneapolis
ATTACH;FMTTYPE=image/png:https://early-birds.club/wp-content/uploads/2025/09/Minneapolis_EBC_768-x-768-px.png
ORGANIZER;CN="Earlybirds Club":MAILTO:info@early-birds.club
END:VEVENT
BEGIN:VEVENT
DTSTART;TZID=America/Chicago:20251122T180000
DTEND;TZID=America/Chicago:20251122T220000
DTSTAMP:20260421T080946
CREATED:20250626T021243Z
LAST-MODIFIED:20250710T152400Z
UID:5048-1763834400-1763848800@early-birds.club
SUMMARY:Earlybirds Club - Boston
DESCRIPTION:
URL:https://early-birds.club/event/earlybirds-club-boston-2/
LOCATION:The Sinclair\, 52 Church St\, Cambridge\, MA\, 02138\, United States
CATEGORIES:Boston
ATTACH;FMTTYPE=image/png:https://early-birds.club/wp-content/uploads/2025/06/Boston_768x768_LiveShot_v2-1.png
ORGANIZER;CN="Earlybirds Club":MAILTO:info@early-birds.club
END:VEVENT
BEGIN:VEVENT
DTSTART;TZID=America/Chicago:20251115T180000
DTEND;TZID=America/Chicago:20251115T220000
DTSTAMP:20260421T080946
CREATED:20250423T015942Z
LAST-MODIFIED:20250930T150606Z
UID:4139-1763229600-1763244000@early-birds.club
SUMMARY:Earlybirds Club - Chicago
DESCRIPTION:
URL:https://early-birds.club/event/earlybirds-club-chicago-3/
LOCATION:Beat Kitchen\, 2100 W Belmont Ave\, Chicago\, IL\, 60618\, United States
CATEGORIES:Chicago
ATTACH;FMTTYPE=image/jpeg:https://early-birds.club/wp-content/uploads/2025/04/EBC_Logo_updated-jpg-scaled.jpg
ORGANIZER;CN="Earlybirds Club":MAILTO:info@early-birds.club
END:VEVENT
BEGIN:VEVENT
DTSTART;TZID=America/Chicago:20251108T180000
DTEND;TZID=America/Chicago:20251108T220000
DTSTAMP:20260421T080946
CREATED:20250617T224455Z
LAST-MODIFIED:20250827T165421Z
UID:4740-1762624800-1762639200@early-birds.club
SUMMARY:Earlybirds Club - Boston
DESCRIPTION:
URL:https://early-birds.club/event/earlybirds-club-boston/
LOCATION:The Sinclair\, 52 Church St\, Cambridge\, MA\, 02138\, United States
CATEGORIES:Boston
ATTACH;FMTTYPE=image/png:https://early-birds.club/wp-content/uploads/2025/06/Boston_11_22_2025_768-x-768-px.png
ORGANIZER;CN="Earlybirds Club":MAILTO:info@early-birds.club
END:VEVENT
BEGIN:VEVENT
DTSTART;TZID=America/Chicago:20251108T180000
DTEND;TZID=America/Chicago:20251108T220000
DTSTAMP:20260421T080946
CREATED:20250514T202444Z
LAST-MODIFIED:20250710T152733Z
UID:4407-1762624800-1762639200@early-birds.club
SUMMARY:Earlybirds Club - LA
DESCRIPTION:
URL:https://early-birds.club/event/earlybirds-club-la/
LOCATION:Teragram Ballroom\, 1234 W 7th St\, Los Angeles\, CA\, 90017
CATEGORIES:LA
ATTACH;FMTTYPE=image/png:https://early-birds.club/wp-content/uploads/2025/05/LA-Teragram-11-8-768x768-1.png
ORGANIZER;CN="Earlybirds Club":MAILTO:info@early-birds.club
END:VEVENT
BEGIN:VEVENT
DTSTART;TZID=America/Chicago:20251107T180000
DTEND;TZID=America/Chicago:20251107T220000
DTSTAMP:20260421T080946
CREATED:20250626T013430Z
LAST-MODIFIED:20250908T152856Z
UID:5044-1762538400-1762552800@early-birds.club
SUMMARY:Earlybirds Club - Rhode Island
DESCRIPTION:
URL:https://early-birds.club/event/earlybirds-club-rhode-island/
LOCATION:The Met\, 1005 Main St\, Pawtucket\, RI\, 02860\, United States
CATEGORIES:Providence
ATTACH;FMTTYPE=image/png:https://early-birds.club/wp-content/uploads/2025/06/RI_11_07_2025_1200-x-1200-px.png
ORGANIZER;CN="Earlybirds Club":MAILTO:info@early-birds.club
END:VEVENT
BEGIN:VEVENT
DTSTART;TZID=America/Chicago:20251101T180000
DTEND;TZID=America/Chicago:20251101T220000
DTSTAMP:20260421T080946
CREATED:20250515T143422Z
LAST-MODIFIED:20251125T204924Z
UID:4425-1762020000-1762034400@early-birds.club
SUMMARY:Earlybirds Club - Halloween Party
DESCRIPTION:
URL:https://early-birds.club/event/earlybirds-club-chicago-south-suburbs/
LOCATION:115 Bourbon Street\, 3359 W 115th St\, Merrionette Park\, IL\, 60803\, United States
CATEGORIES:Chicago
ATTACH;FMTTYPE=image/png:https://early-birds.club/wp-content/uploads/2025/05/Halloween-768-x-768.png
ORGANIZER;CN="Earlybirds Club":MAILTO:info@early-birds.club
END:VEVENT
BEGIN:VEVENT
DTSTART;TZID=America/Chicago:20251025T180000
DTEND;TZID=America/Chicago:20251025T220000
DTSTAMP:20260421T080946
CREATED:20250715T170047Z
LAST-MODIFIED:20260114T164000Z
UID:5442-1761415200-1761429600@early-birds.club
SUMMARY:Earlybirds Club - Bay Area
DESCRIPTION:
URL:https://early-birds.club/event/earlybirds-club-bay-area/
LOCATION:Cornerstone\, 2367 Shattuck Avenue\, Berkeley\, CA\, 94704\, United States
CATEGORIES:Bay Area,San Francisco
ATTACH;FMTTYPE=image/png:https://early-birds.club/wp-content/uploads/2025/07/Bay-Area_768x768-1.png
ORGANIZER;CN="Earlybirds Club":MAILTO:info@early-birds.club
END:VEVENT
BEGIN:VEVENT
DTSTART;TZID=America/Chicago:20251024T180000
DTEND;TZID=America/Chicago:20251024T220000
DTSTAMP:20260421T080946
CREATED:20250715T171022Z
LAST-MODIFIED:20250923T040219Z
UID:5445-1761328800-1761343200@early-birds.club
SUMMARY:Earlybirds Club - Petaluma
DESCRIPTION:
URL:https://early-birds.club/event/earlybirds-club-petaluma/
LOCATION:Mystic Theatre\, 23 Petaluma Blvd N\, Petaluma\, CA\, 94952\, United States
CATEGORIES:Petaluma
ATTACH;FMTTYPE=image/png:https://early-birds.club/wp-content/uploads/2025/07/Petaluma_768x768-1.png
ORGANIZER;CN="Earlybirds Club":MAILTO:info@early-birds.club
END:VEVENT
BEGIN:VEVENT
DTSTART;TZID=America/Chicago:20251018T180000
DTEND;TZID=America/Chicago:20251018T220000
DTSTAMP:20260421T080946
CREATED:20250509T165804Z
LAST-MODIFIED:20250807T164243Z
UID:4310-1760810400-1760824800@early-birds.club
SUMMARY:Earlybirds Club - Austin
DESCRIPTION:
URL:https://early-birds.club/event/earlybirds-club-austin/
LOCATION:ACL Live at 3Ten\, 310 W Willie Nelson Blvd\, Austin\, TX\, 78701\, United States
CATEGORIES:Austin
ATTACH;FMTTYPE=image/jpeg:https://early-birds.club/wp-content/uploads/2025/05/EBC-Austin-no-billing.jpg
ORGANIZER;CN="Earlybirds Club":MAILTO:info@early-birds.club
END:VEVENT
BEGIN:VEVENT
DTSTART;TZID=America/Chicago:20251011T180000
DTEND;TZID=America/Chicago:20251011T220000
DTSTAMP:20260421T080946
CREATED:20250423T015712Z
LAST-MODIFIED:20250826T173343Z
UID:4137-1760205600-1760220000@early-birds.club
SUMMARY:Earlybirds Club - Susie-palooza
DESCRIPTION:
URL:https://early-birds.club/event/earlybirds-club-chicago-2/
LOCATION:Beat Kitchen\, 2100 W Belmont Ave\, Chicago\, IL\, 60618\, United States
CATEGORIES:Chicago
ATTACH;FMTTYPE=image/jpeg:https://early-birds.club/wp-content/uploads/2025/04/SUSIEPALOOZA-_768-x-768-px.jpg
ORGANIZER;CN="Earlybirds Club":MAILTO:info@early-birds.club
END:VEVENT
END:VCALENDAR